BEGIN:VCALENDAR
VERSION:2.0
PRODID:-//Cabby Shack - ECPv6.15.12.2//NONSGML v1.0//EN
CALSCALE:GREGORIAN
METHOD:PUBLISH
X-WR-CALNAME:Cabby Shack
X-ORIGINAL-URL:https://www.cabbyshack.com
X-WR-CALDESC:Events for Cabby Shack
REFRESH-INTERVAL;VALUE=DURATION:PT1H
X-Robots-Tag:noindex
X-PUBLISHED-TTL:PT1H
BEGIN:VTIMEZONE
TZID:America/New_York
BEGIN:DAYLIGHT
TZOFFSETFROM:-0500
TZOFFSETTO:-0400
TZNAME:EDT
DTSTART:20220313T070000
END:DAYLIGHT
BEGIN:STANDARD
TZOFFSETFROM:-0400
TZOFFSETTO:-0500
TZNAME:EST
DTSTART:20221106T060000
END:STANDARD
BEGIN:DAYLIGHT
TZOFFSETFROM:-0500
TZOFFSETTO:-0400
TZNAME:EDT
DTSTART:20230312T070000
END:DAYLIGHT
BEGIN:STANDARD
TZOFFSETFROM:-0400
TZOFFSETTO:-0500
TZNAME:EST
DTSTART:20231105T060000
END:STANDARD
BEGIN:DAYLIGHT
TZOFFSETFROM:-0500
TZOFFSETTO:-0400
TZNAME:EDT
DTSTART:20240310T070000
END:DAYLIGHT
BEGIN:STANDARD
TZOFFSETFROM:-0400
TZOFFSETTO:-0500
TZNAME:EST
DTSTART:20241103T060000
END:STANDARD
END:VTIMEZONE
BEGIN:VEVENT
DTSTART;TZID=America/New_York:20230830T170000
DTEND;TZID=America/New_York:20230830T200000
DTSTAMP:20260420T121209
CREATED:20230727T193834Z
LAST-MODIFIED:20231006T170535Z
UID:10000026-1693414800-1693425600@www.cabbyshack.com
SUMMARY:Frankie J.
DESCRIPTION:Reggae from the Islands.
URL:https://www.cabbyshack.com/event/frankie-j/2023-08-30/
LOCATION:CabbyShack\, 30 Town Wharf\, Plymouth\, MA\, 02360\, United States
CATEGORIES:Music
ATTACH;FMTTYPE=image/jpeg:https://www.cabbyshack.com/wp-content/uploads/2023/07/Frankie-J.jpg
END:VEVENT
BEGIN:VEVENT
DTSTART;TZID=America/New_York:20230830T213000
DTEND;TZID=America/New_York:20230831T003000
DTSTAMP:20260420T121209
CREATED:20230801T135004Z
LAST-MODIFIED:20250311T194031Z
UID:10000182-1693431000-1693441800@www.cabbyshack.com
SUMMARY:Nolan Driscoll
DESCRIPTION:Singer\, songwriter\, guitarist\, multi-instrumentalist\, and music producer.
URL:https://www.cabbyshack.com/event/nolan-driscoll/2023-08-30/
LOCATION:CabbyShack\, 30 Town Wharf\, Plymouth\, MA\, 02360\, United States
CATEGORIES:Music
ATTACH;FMTTYPE=image/jpeg:https://www.cabbyshack.com/wp-content/uploads/2023/07/Nolan-Driscoll-sq.jpg
END:VEVENT
END:VCALENDAR