BEGIN:VCALENDAR
VERSION:2.0
PRODID:-//Cabby Shack - ECPv6.15.12.2//NONSGML v1.0//EN
CALSCALE:GREGORIAN
METHOD:PUBLISH
X-WR-CALNAME:Cabby Shack
X-ORIGINAL-URL:https://www.cabbyshack.com
X-WR-CALDESC:Events for Cabby Shack
REFRESH-INTERVAL;VALUE=DURATION:PT1H
X-Robots-Tag:noindex
X-PUBLISHED-TTL:PT1H
BEGIN:VTIMEZONE
TZID:America/New_York
BEGIN:DAYLIGHT
TZOFFSETFROM:-0500
TZOFFSETTO:-0400
TZNAME:EDT
DTSTART:20220313T070000
END:DAYLIGHT
BEGIN:STANDARD
TZOFFSETFROM:-0400
TZOFFSETTO:-0500
TZNAME:EST
DTSTART:20221106T060000
END:STANDARD
BEGIN:DAYLIGHT
TZOFFSETFROM:-0500
TZOFFSETTO:-0400
TZNAME:EDT
DTSTART:20230312T070000
END:DAYLIGHT
BEGIN:STANDARD
TZOFFSETFROM:-0400
TZOFFSETTO:-0500
TZNAME:EST
DTSTART:20231105T060000
END:STANDARD
BEGIN:DAYLIGHT
TZOFFSETFROM:-0500
TZOFFSETTO:-0400
TZNAME:EDT
DTSTART:20240310T070000
END:DAYLIGHT
BEGIN:STANDARD
TZOFFSETFROM:-0400
TZOFFSETTO:-0500
TZNAME:EST
DTSTART:20241103T060000
END:STANDARD
END:VTIMEZONE
BEGIN:VEVENT
DTSTART;TZID=America/New_York:20230901T213000
DTEND;TZID=America/New_York:20230902T003000
DTSTAMP:20260422T071135
CREATED:20230801T135812Z
LAST-MODIFIED:20260420T200242Z
UID:10000185-1693603800-1693614600@www.cabbyshack.com
SUMMARY:The Jake Ash Band
DESCRIPTION:Incorporating traditional and modern country with northeast-flavored rock to produce incredibly catchy\, original music that makes you instantly want to sing along!
URL:https://www.cabbyshack.com/event/the-jake-ash-band/2023-09-01/
LOCATION:CabbyShack\, 30 Town Wharf\, Plymouth\, MA\, 02360\, United States
CATEGORIES:Music
ATTACH;FMTTYPE=image/jpeg:https://www.cabbyshack.com/wp-content/uploads/2023/08/jake-ash-band.jpg
END:VEVENT
END:VCALENDAR