BEGIN:VCALENDAR
VERSION:2.0
PRODID:-//Cabby Shack - ECPv6.15.12.2//NONSGML v1.0//EN
CALSCALE:GREGORIAN
METHOD:PUBLISH
X-ORIGINAL-URL:https://www.cabbyshack.com
X-WR-CALDESC:Events for Cabby Shack
REFRESH-INTERVAL;VALUE=DURATION:PT1H
X-Robots-Tag:noindex
X-PUBLISHED-TTL:PT1H
BEGIN:VTIMEZONE
TZID:America/New_York
BEGIN:DAYLIGHT
TZOFFSETFROM:-0500
TZOFFSETTO:-0400
TZNAME:EDT
DTSTART:20220313T070000
END:DAYLIGHT
BEGIN:STANDARD
TZOFFSETFROM:-0400
TZOFFSETTO:-0500
TZNAME:EST
DTSTART:20221106T060000
END:STANDARD
BEGIN:DAYLIGHT
TZOFFSETFROM:-0500
TZOFFSETTO:-0400
TZNAME:EDT
DTSTART:20230312T070000
END:DAYLIGHT
BEGIN:STANDARD
TZOFFSETFROM:-0400
TZOFFSETTO:-0500
TZNAME:EST
DTSTART:20231105T060000
END:STANDARD
BEGIN:DAYLIGHT
TZOFFSETFROM:-0500
TZOFFSETTO:-0400
TZNAME:EDT
DTSTART:20240310T070000
END:DAYLIGHT
BEGIN:STANDARD
TZOFFSETFROM:-0400
TZOFFSETTO:-0500
TZNAME:EST
DTSTART:20241103T060000
END:STANDARD
END:VTIMEZONE
BEGIN:VEVENT
DTSTART;TZID=America/New_York:20231208T213000
DTEND;TZID=America/New_York:20231209T003000
DTSTAMP:20260422T060058
CREATED:20231129T193553Z
LAST-MODIFIED:20250826T125743Z
UID:10001112-1702071000-1702081800@www.cabbyshack.com
SUMMARY:Nate Ramos
DESCRIPTION:With a naturally powerful voice and detailed storytelling in his lyrics\, Nate is carving a unique path in the world of music as an upcoming alt-country sensation.
URL:https://www.cabbyshack.com/event/nate-ramos/2023-12-08/
LOCATION:CabbyShack\, 30 Town Wharf\, Plymouth\, MA\, 02360\, United States
CATEGORIES:Music
ATTACH;FMTTYPE=image/jpeg:https://www.cabbyshack.com/wp-content/uploads/2023/11/nate-ramos.jpg
END:VEVENT
BEGIN:VEVENT
DTSTART;TZID=America/New_York:20231209T150000
DTEND;TZID=America/New_York:20231209T180000
DTSTAMP:20260422T060058
CREATED:20230728T200234Z
LAST-MODIFIED:20260420T192316Z
UID:10001103-1702134000-1702144800@www.cabbyshack.com
SUMMARY:Hitch
DESCRIPTION:Plymouth Singer-Songwriter Musician
URL:https://www.cabbyshack.com/event/hitch/2023-12-09/
LOCATION:CabbyShack\, 30 Town Wharf\, Plymouth\, MA\, 02360\, United States
CATEGORIES:Music
ATTACH;FMTTYPE=image/jpeg:https://www.cabbyshack.com/wp-content/uploads/2023/07/Hitch-sq.jpg
END:VEVENT
BEGIN:VEVENT
DTSTART;TZID=America/New_York:20231209T213000
DTEND;TZID=America/New_York:20231210T003000
DTSTAMP:20260422T060058
CREATED:20231030T150250Z
LAST-MODIFIED:20250530T152800Z
UID:10001113-1702157400-1702168200@www.cabbyshack.com
SUMMARY:Overdrive
DESCRIPTION:
URL:https://www.cabbyshack.com/event/overdrive/2023-12-09/
LOCATION:CabbyShack\, 30 Town Wharf\, Plymouth\, MA\, 02360\, United States
CATEGORIES:Music
ATTACH;FMTTYPE=image/jpeg:https://www.cabbyshack.com/wp-content/uploads/2023/10/Overdrive-Photo.jpg
END:VEVENT
END:VCALENDAR