BEGIN:VCALENDAR
VERSION:2.0
PRODID:-//Cabby Shack - ECPv6.15.12.2//NONSGML v1.0//EN
CALSCALE:GREGORIAN
METHOD:PUBLISH
X-WR-CALNAME:Cabby Shack
X-ORIGINAL-URL:https://www.cabbyshack.com
X-WR-CALDESC:Events for Cabby Shack
REFRESH-INTERVAL;VALUE=DURATION:PT1H
X-Robots-Tag:noindex
X-PUBLISHED-TTL:PT1H
BEGIN:VTIMEZONE
TZID:America/New_York
BEGIN:DAYLIGHT
TZOFFSETFROM:-0500
TZOFFSETTO:-0400
TZNAME:EDT
DTSTART:20240310T070000
END:DAYLIGHT
BEGIN:STANDARD
TZOFFSETFROM:-0400
TZOFFSETTO:-0500
TZNAME:EST
DTSTART:20241103T060000
END:STANDARD
BEGIN:DAYLIGHT
TZOFFSETFROM:-0500
TZOFFSETTO:-0400
TZNAME:EDT
DTSTART:20250309T070000
END:DAYLIGHT
BEGIN:STANDARD
TZOFFSETFROM:-0400
TZOFFSETTO:-0500
TZNAME:EST
DTSTART:20251102T060000
END:STANDARD
BEGIN:DAYLIGHT
TZOFFSETFROM:-0500
TZOFFSETTO:-0400
TZNAME:EDT
DTSTART:20260308T070000
END:DAYLIGHT
BEGIN:STANDARD
TZOFFSETFROM:-0400
TZOFFSETTO:-0500
TZNAME:EST
DTSTART:20261101T060000
END:STANDARD
END:VTIMEZONE
BEGIN:VEVENT
DTSTART;TZID=America/New_York:20250405T213000
DTEND;TZID=America/New_York:20250406T003000
DTSTAMP:20260424T092511
CREATED:20250325T193157Z
LAST-MODIFIED:20250417T193221Z
UID:10002122-1743888600-1743899400@www.cabbyshack.com
SUMMARY:Connor Cox
DESCRIPTION:Enjoy live music and dance the night away!
URL:https://www.cabbyshack.com/event/connor-cox/2025-04-05/
LOCATION:CabbyShack\, 30 Town Wharf\, Plymouth\, MA\, 02360\, United States
CATEGORIES:Music
ATTACH;FMTTYPE=image/jpeg:https://www.cabbyshack.com/wp-content/uploads/2025/03/Connor-cox-sq.jpg
END:VEVENT
BEGIN:VEVENT
DTSTART;TZID=America/New_York:20250406T160000
DTEND;TZID=America/New_York:20250406T190000
DTSTAMP:20260424T092511
CREATED:20240730T184146Z
LAST-MODIFIED:20260420T202127Z
UID:10002049-1743955200-1743966000@www.cabbyshack.com
SUMMARY:Stevey Burke
DESCRIPTION:Jammin’ out with some tunes!
URL:https://www.cabbyshack.com/event/stevey-burke-friends-2/2025-04-06/
LOCATION:CabbyShack\, 30 Town Wharf\, Plymouth\, MA\, 02360\, United States
CATEGORIES:Music
ATTACH;FMTTYPE=image/jpeg:https://www.cabbyshack.com/wp-content/uploads/2023/07/Stevey-Burke.jpeg
END:VEVENT
END:VCALENDAR