BEGIN:VCALENDAR
VERSION:2.0
PRODID:-//Cabby Shack - ECPv6.15.12.2//NONSGML v1.0//EN
CALSCALE:GREGORIAN
METHOD:PUBLISH
X-ORIGINAL-URL:https://www.cabbyshack.com
X-WR-CALDESC:Events for Cabby Shack
REFRESH-INTERVAL;VALUE=DURATION:PT1H
X-Robots-Tag:noindex
X-PUBLISHED-TTL:PT1H
BEGIN:VTIMEZONE
TZID:America/New_York
BEGIN:DAYLIGHT
TZOFFSETFROM:-0500
TZOFFSETTO:-0400
TZNAME:EDT
DTSTART:20240310T070000
END:DAYLIGHT
BEGIN:STANDARD
TZOFFSETFROM:-0400
TZOFFSETTO:-0500
TZNAME:EST
DTSTART:20241103T060000
END:STANDARD
BEGIN:DAYLIGHT
TZOFFSETFROM:-0500
TZOFFSETTO:-0400
TZNAME:EDT
DTSTART:20250309T070000
END:DAYLIGHT
BEGIN:STANDARD
TZOFFSETFROM:-0400
TZOFFSETTO:-0500
TZNAME:EST
DTSTART:20251102T060000
END:STANDARD
BEGIN:DAYLIGHT
TZOFFSETFROM:-0500
TZOFFSETTO:-0400
TZNAME:EDT
DTSTART:20260308T070000
END:DAYLIGHT
BEGIN:STANDARD
TZOFFSETFROM:-0400
TZOFFSETTO:-0500
TZNAME:EST
DTSTART:20261101T060000
END:STANDARD
END:VTIMEZONE
BEGIN:VEVENT
DTSTART;TZID=America/New_York:20250418T213000
DTEND;TZID=America/New_York:20250419T003000
DTSTAMP:20260424T093848
CREATED:20241122T152518Z
LAST-MODIFIED:20260420T195729Z
UID:10002114-1745011800-1745022600@www.cabbyshack.com
SUMMARY:The Speakeasies
DESCRIPTION:The Speakeasies provide a unique blend of blues and soul. They’ll transport you to a new place\, with fresh versions of classic songs you love.
URL:https://www.cabbyshack.com/event/the-speakeasies/2025-04-18/
LOCATION:CabbyShack\, 30 Town Wharf\, Plymouth\, MA\, 02360\, United States
CATEGORIES:Music
ATTACH;FMTTYPE=image/jpeg:https://www.cabbyshack.com/wp-content/uploads/2024/11/thee-speakeasies-sq.jpg
END:VEVENT
BEGIN:VEVENT
DTSTART;TZID=America/New_York:20250419T150000
DTEND;TZID=America/New_York:20250419T180000
DTSTAMP:20260424T093848
CREATED:20230728T200234Z
LAST-MODIFIED:20260420T192316Z
UID:10002048-1745074800-1745085600@www.cabbyshack.com
SUMMARY:Hitch
DESCRIPTION:Plymouth Singer-Songwriter Musician
URL:https://www.cabbyshack.com/event/hitch/2025-04-19/
LOCATION:CabbyShack\, 30 Town Wharf\, Plymouth\, MA\, 02360\, United States
CATEGORIES:Music
ATTACH;FMTTYPE=image/jpeg:https://www.cabbyshack.com/wp-content/uploads/2023/07/Hitch-sq.jpg
END:VEVENT
BEGIN:VEVENT
DTSTART;TZID=America/New_York:20250419T213000
DTEND;TZID=America/New_York:20250420T003000
DTSTAMP:20260424T093848
CREATED:20240102T182041Z
LAST-MODIFIED:20260420T195544Z
UID:10002115-1745098200-1745109000@www.cabbyshack.com
SUMMARY:The Curve
DESCRIPTION:Ready to entertain with danceable Rock and Pop classics from the 70s to the modern era.
URL:https://www.cabbyshack.com/event/the-curve-2/2025-04-19/
LOCATION:CabbyShack\, 30 Town Wharf\, Plymouth\, MA\, 02360\, United States
CATEGORIES:Music
ATTACH;FMTTYPE=image/jpeg:https://www.cabbyshack.com/wp-content/uploads/2023/08/The-Curve.jpg
END:VEVENT
END:VCALENDAR