BEGIN:VCALENDAR
VERSION:2.0
PRODID:-//Cabby Shack - ECPv6.15.12.2//NONSGML v1.0//EN
CALSCALE:GREGORIAN
METHOD:PUBLISH
X-ORIGINAL-URL:https://www.cabbyshack.com
X-WR-CALDESC:Events for Cabby Shack
REFRESH-INTERVAL;VALUE=DURATION:PT1H
X-Robots-Tag:noindex
X-PUBLISHED-TTL:PT1H
BEGIN:VTIMEZONE
TZID:America/New_York
BEGIN:DAYLIGHT
TZOFFSETFROM:-0500
TZOFFSETTO:-0400
TZNAME:EDT
DTSTART:20240310T070000
END:DAYLIGHT
BEGIN:STANDARD
TZOFFSETFROM:-0400
TZOFFSETTO:-0500
TZNAME:EST
DTSTART:20241103T060000
END:STANDARD
BEGIN:DAYLIGHT
TZOFFSETFROM:-0500
TZOFFSETTO:-0400
TZNAME:EDT
DTSTART:20250309T070000
END:DAYLIGHT
BEGIN:STANDARD
TZOFFSETFROM:-0400
TZOFFSETTO:-0500
TZNAME:EST
DTSTART:20251102T060000
END:STANDARD
BEGIN:DAYLIGHT
TZOFFSETFROM:-0500
TZOFFSETTO:-0400
TZNAME:EDT
DTSTART:20260308T070000
END:DAYLIGHT
BEGIN:STANDARD
TZOFFSETFROM:-0400
TZOFFSETTO:-0500
TZNAME:EST
DTSTART:20261101T060000
END:STANDARD
END:VTIMEZONE
BEGIN:VEVENT
DTSTART;TZID=America/New_York:20250525T213000
DTEND;TZID=America/New_York:20250526T003000
DTSTAMP:20260424T111527
CREATED:20241122T152518Z
LAST-MODIFIED:20260420T195729Z
UID:10002159-1748208600-1748219400@www.cabbyshack.com
SUMMARY:The Speakeasies
DESCRIPTION:The Speakeasies provide a unique blend of blues and soul. They’ll transport you to a new place\, with fresh versions of classic songs you love.
URL:https://www.cabbyshack.com/event/the-speakeasies/2025-05-25/
LOCATION:CabbyShack\, 30 Town Wharf\, Plymouth\, MA\, 02360\, United States
CATEGORIES:Music
ATTACH;FMTTYPE=image/jpeg:https://www.cabbyshack.com/wp-content/uploads/2024/11/thee-speakeasies-sq.jpg
END:VEVENT
BEGIN:VEVENT
DTSTART;TZID=America/New_York:20250526T160000
DTEND;TZID=America/New_York:20250526T190000
DTSTAMP:20260424T111527
CREATED:20230731T175714Z
LAST-MODIFIED:20260420T194807Z
UID:10002160-1748275200-1748286000@www.cabbyshack.com
SUMMARY:Suzanne McNeil
DESCRIPTION:Pop and rock roots with warm vocal undertones.
URL:https://www.cabbyshack.com/event/suzanne-mcneil/2025-05-26/
LOCATION:CabbyShack\, 30 Town Wharf\, Plymouth\, MA\, 02360\, United States
CATEGORIES:Music
ATTACH;FMTTYPE=image/png:https://www.cabbyshack.com/wp-content/uploads/2023/07/Suzanne-McNeil.png
END:VEVENT
END:VCALENDAR