BEGIN:VCALENDAR
VERSION:2.0
PRODID:-//Cabby Shack - ECPv6.15.12.2//NONSGML v1.0//EN
CALSCALE:GREGORIAN
METHOD:PUBLISH
X-ORIGINAL-URL:https://www.cabbyshack.com
X-WR-CALDESC:Events for Cabby Shack
REFRESH-INTERVAL;VALUE=DURATION:PT1H
X-Robots-Tag:noindex
X-PUBLISHED-TTL:PT1H
BEGIN:VTIMEZONE
TZID:America/New_York
BEGIN:DAYLIGHT
TZOFFSETFROM:-0500
TZOFFSETTO:-0400
TZNAME:EDT
DTSTART:20240310T070000
END:DAYLIGHT
BEGIN:STANDARD
TZOFFSETFROM:-0400
TZOFFSETTO:-0500
TZNAME:EST
DTSTART:20241103T060000
END:STANDARD
BEGIN:DAYLIGHT
TZOFFSETFROM:-0500
TZOFFSETTO:-0400
TZNAME:EDT
DTSTART:20250309T070000
END:DAYLIGHT
BEGIN:STANDARD
TZOFFSETFROM:-0400
TZOFFSETTO:-0500
TZNAME:EST
DTSTART:20251102T060000
END:STANDARD
BEGIN:DAYLIGHT
TZOFFSETFROM:-0500
TZOFFSETTO:-0400
TZNAME:EDT
DTSTART:20260308T070000
END:DAYLIGHT
BEGIN:STANDARD
TZOFFSETFROM:-0400
TZOFFSETTO:-0500
TZNAME:EST
DTSTART:20261101T060000
END:STANDARD
END:VTIMEZONE
BEGIN:VEVENT
DTSTART;TZID=America/New_York:20250612T213000
DTEND;TZID=America/New_York:20250613T003000
DTSTAMP:20260420T144103
CREATED:20230731T203110Z
LAST-MODIFIED:20251222T142435Z
UID:10002228-1749763800-1749774600@www.cabbyshack.com
SUMMARY:Stevey Burke & Friends
DESCRIPTION:Jammin’ out with some tunes!
URL:https://www.cabbyshack.com/event/stevey-burke-friends/2025-06-12/
LOCATION:CabbyShack\, 30 Town Wharf\, Plymouth\, MA\, 02360\, United States
CATEGORIES:Music
ATTACH;FMTTYPE=image/jpeg:https://www.cabbyshack.com/wp-content/uploads/2023/07/Stevey-Burke.jpeg
END:VEVENT
BEGIN:VEVENT
DTSTART;TZID=America/New_York:20250613T160000
DTEND;TZID=America/New_York:20250613T190000
DTSTAMP:20260420T144103
CREATED:20250530T152019Z
LAST-MODIFIED:20251028T141010Z
UID:10002229-1749830400-1749841200@www.cabbyshack.com
SUMMARY:Woody
DESCRIPTION:
URL:https://www.cabbyshack.com/event/woody/2025-06-13/
LOCATION:CabbyShack\, 30 Town Wharf\, Plymouth\, MA\, 02360\, United States
CATEGORIES:Music
ATTACH;FMTTYPE=image/jpeg:https://www.cabbyshack.com/wp-content/uploads/2025/04/woody-sq.jpg
END:VEVENT
BEGIN:VEVENT
DTSTART;TZID=America/New_York:20250613T213000
DTEND;TZID=America/New_York:20250614T003000
DTSTAMP:20260420T144103
CREATED:20240926T134522Z
LAST-MODIFIED:20250530T152109Z
UID:10002230-1749850200-1749861000@www.cabbyshack.com
SUMMARY:Michele Rockwell Band
DESCRIPTION:Classic Rock\, Funk\, Soul\, Top 40\, Dance\, Jam\, and some Reggae
URL:https://www.cabbyshack.com/event/michele-rockwell-band/2025-06-13/
LOCATION:CabbyShack\, 30 Town Wharf\, Plymouth\, MA\, 02360\, United States
CATEGORIES:Music
ATTACH;FMTTYPE=image/jpeg:https://www.cabbyshack.com/wp-content/uploads/2024/09/Michelle-Rockwell-Band-sq.jpg
END:VEVENT
END:VCALENDAR