BEGIN:VCALENDAR
VERSION:2.0
PRODID:-//Cabby Shack - ECPv6.15.12.2//NONSGML v1.0//EN
CALSCALE:GREGORIAN
METHOD:PUBLISH
X-WR-CALNAME:Cabby Shack
X-ORIGINAL-URL:https://www.cabbyshack.com
X-WR-CALDESC:Events for Cabby Shack
REFRESH-INTERVAL;VALUE=DURATION:PT1H
X-Robots-Tag:noindex
X-PUBLISHED-TTL:PT1H
BEGIN:VTIMEZONE
TZID:America/New_York
BEGIN:DAYLIGHT
TZOFFSETFROM:-0500
TZOFFSETTO:-0400
TZNAME:EDT
DTSTART:20240310T070000
END:DAYLIGHT
BEGIN:STANDARD
TZOFFSETFROM:-0400
TZOFFSETTO:-0500
TZNAME:EST
DTSTART:20241103T060000
END:STANDARD
BEGIN:DAYLIGHT
TZOFFSETFROM:-0500
TZOFFSETTO:-0400
TZNAME:EDT
DTSTART:20250309T070000
END:DAYLIGHT
BEGIN:STANDARD
TZOFFSETFROM:-0400
TZOFFSETTO:-0500
TZNAME:EST
DTSTART:20251102T060000
END:STANDARD
BEGIN:DAYLIGHT
TZOFFSETFROM:-0500
TZOFFSETTO:-0400
TZNAME:EDT
DTSTART:20260308T070000
END:DAYLIGHT
BEGIN:STANDARD
TZOFFSETFROM:-0400
TZOFFSETTO:-0500
TZNAME:EST
DTSTART:20261101T060000
END:STANDARD
END:VTIMEZONE
BEGIN:VEVENT
DTSTART;TZID=America/New_York:20250710T213000
DTEND;TZID=America/New_York:20250711T003000
DTSTAMP:20260420T143914
CREATED:20230905T145952Z
LAST-MODIFIED:20250625T135124Z
UID:10002270-1752183000-1752193800@www.cabbyshack.com
SUMMARY:Birch Swart Trio
DESCRIPTION:A South Shore based jam/rock band of musicians.
URL:https://www.cabbyshack.com/event/birch-swart-trio/2025-07-10/
LOCATION:CabbyShack\, 30 Town Wharf\, Plymouth\, MA\, 02360\, United States
CATEGORIES:Music
ATTACH;FMTTYPE=image/jpeg:https://www.cabbyshack.com/wp-content/uploads/2023/09/Birch-Swart-Trio-sq.jpg
END:VEVENT
BEGIN:VEVENT
DTSTART;TZID=America/New_York:20250711T160000
DTEND;TZID=America/New_York:20250711T190000
DTSTAMP:20260420T143914
CREATED:20230801T132705Z
LAST-MODIFIED:20260303T182242Z
UID:10002271-1752249600-1752260400@www.cabbyshack.com
SUMMARY:Kyle Morrison
DESCRIPTION:Vocalist\, guitarist\, and songwriter performing a fusion of blues\, funk\, jazz\, reggae\, soul and a hint of country.
URL:https://www.cabbyshack.com/event/kyle-morrison/2025-07-11/
LOCATION:CabbyShack\, 30 Town Wharf\, Plymouth\, MA\, 02360\, United States
CATEGORIES:Music
ATTACH;FMTTYPE=image/jpeg:https://www.cabbyshack.com/wp-content/uploads/2023/08/Kyle-Morrison-sq.jpg
END:VEVENT
BEGIN:VEVENT
DTSTART;TZID=America/New_York:20250711T213000
DTEND;TZID=America/New_York:20250712T003000
DTSTAMP:20260420T143914
CREATED:20241028T174645Z
LAST-MODIFIED:20250724T170612Z
UID:10002272-1752269400-1752280200@www.cabbyshack.com
SUMMARY:Donny and the Darkos
DESCRIPTION:Epic rock covers
URL:https://www.cabbyshack.com/event/donny-and-the-darkos/2025-07-11/
LOCATION:MA
CATEGORIES:Music
ATTACH;FMTTYPE=image/jpeg:https://www.cabbyshack.com/wp-content/uploads/2024/10/donny-and-the-darkos-sq.jpg
END:VEVENT
END:VCALENDAR