BEGIN:VCALENDAR
VERSION:2.0
PRODID:-//Cabby Shack - ECPv6.15.12.2//NONSGML v1.0//EN
CALSCALE:GREGORIAN
METHOD:PUBLISH
X-ORIGINAL-URL:https://www.cabbyshack.com
X-WR-CALDESC:Events for Cabby Shack
REFRESH-INTERVAL;VALUE=DURATION:PT1H
X-Robots-Tag:noindex
X-PUBLISHED-TTL:PT1H
BEGIN:VTIMEZONE
TZID:America/New_York
BEGIN:DAYLIGHT
TZOFFSETFROM:-0500
TZOFFSETTO:-0400
TZNAME:EDT
DTSTART:20230312T070000
END:DAYLIGHT
BEGIN:STANDARD
TZOFFSETFROM:-0400
TZOFFSETTO:-0500
TZNAME:EST
DTSTART:20231105T060000
END:STANDARD
BEGIN:DAYLIGHT
TZOFFSETFROM:-0500
TZOFFSETTO:-0400
TZNAME:EDT
DTSTART:20240310T070000
END:DAYLIGHT
BEGIN:STANDARD
TZOFFSETFROM:-0400
TZOFFSETTO:-0500
TZNAME:EST
DTSTART:20241103T060000
END:STANDARD
BEGIN:DAYLIGHT
TZOFFSETFROM:-0500
TZOFFSETTO:-0400
TZNAME:EDT
DTSTART:20250309T070000
END:DAYLIGHT
BEGIN:STANDARD
TZOFFSETFROM:-0400
TZOFFSETTO:-0500
TZNAME:EST
DTSTART:20251102T060000
END:STANDARD
END:VTIMEZONE
BEGIN:VEVENT
DTSTART;TZID=America/New_York:20240805T210000
DTEND;TZID=America/New_York:20240806T000000
DTSTAMP:20260423T125117
CREATED:20230727T181945Z
LAST-MODIFIED:20250828T191053Z
UID:10001312-1722891600-1722902400@www.cabbyshack.com
SUMMARY:Karaoke With DJ Gene
DESCRIPTION:Bring your friends and show off your singing skills at karaoke!
URL:https://www.cabbyshack.com/event/karaoke-with-dj-gene/2024-08-05/
LOCATION:CabbyShack\, 30 Town Wharf\, Plymouth\, MA\, 02360\, United States
CATEGORIES:Karaoke
ATTACH;FMTTYPE=image/jpeg:https://www.cabbyshack.com/wp-content/uploads/2023/07/Karaoke-Sq.jpg
END:VEVENT
BEGIN:VEVENT
DTSTART;TZID=America/New_York:20240812T210000
DTEND;TZID=America/New_York:20240813T000000
DTSTAMP:20260423T125117
CREATED:20230727T181945Z
LAST-MODIFIED:20250828T191053Z
UID:10001313-1723496400-1723507200@www.cabbyshack.com
SUMMARY:Karaoke With DJ Gene
DESCRIPTION:Bring your friends and show off your singing skills at karaoke!
URL:https://www.cabbyshack.com/event/karaoke-with-dj-gene/2024-08-12/
LOCATION:CabbyShack\, 30 Town Wharf\, Plymouth\, MA\, 02360\, United States
CATEGORIES:Karaoke
ATTACH;FMTTYPE=image/jpeg:https://www.cabbyshack.com/wp-content/uploads/2023/07/Karaoke-Sq.jpg
END:VEVENT
BEGIN:VEVENT
DTSTART;TZID=America/New_York:20240819T210000
DTEND;TZID=America/New_York:20240820T000000
DTSTAMP:20260423T125117
CREATED:20230727T181945Z
LAST-MODIFIED:20250828T191053Z
UID:10001314-1724101200-1724112000@www.cabbyshack.com
SUMMARY:Karaoke With DJ Gene
DESCRIPTION:Bring your friends and show off your singing skills at karaoke!
URL:https://www.cabbyshack.com/event/karaoke-with-dj-gene/2024-08-19/
LOCATION:CabbyShack\, 30 Town Wharf\, Plymouth\, MA\, 02360\, United States
CATEGORIES:Karaoke
ATTACH;FMTTYPE=image/jpeg:https://www.cabbyshack.com/wp-content/uploads/2023/07/Karaoke-Sq.jpg
END:VEVENT
BEGIN:VEVENT
DTSTART;TZID=America/New_York:20240826T210000
DTEND;TZID=America/New_York:20240827T000000
DTSTAMP:20260423T125117
CREATED:20230727T181945Z
LAST-MODIFIED:20250828T191053Z
UID:10001315-1724706000-1724716800@www.cabbyshack.com
SUMMARY:Karaoke With DJ Gene
DESCRIPTION:Bring your friends and show off your singing skills at karaoke!
URL:https://www.cabbyshack.com/event/karaoke-with-dj-gene/2024-08-26/
LOCATION:CabbyShack\, 30 Town Wharf\, Plymouth\, MA\, 02360\, United States
CATEGORIES:Karaoke
ATTACH;FMTTYPE=image/jpeg:https://www.cabbyshack.com/wp-content/uploads/2023/07/Karaoke-Sq.jpg
END:VEVENT
END:VCALENDAR