BEGIN:VCALENDAR
VERSION:2.0
PRODID:-//Cabby Shack - ECPv6.15.12.2//NONSGML v1.0//EN
CALSCALE:GREGORIAN
METHOD:PUBLISH
X-ORIGINAL-URL:https://www.cabbyshack.com
X-WR-CALDESC:Events for Cabby Shack
REFRESH-INTERVAL;VALUE=DURATION:PT1H
X-Robots-Tag:noindex
X-PUBLISHED-TTL:PT1H
BEGIN:VTIMEZONE
TZID:America/New_York
BEGIN:DAYLIGHT
TZOFFSETFROM:-0500
TZOFFSETTO:-0400
TZNAME:EDT
DTSTART:20250309T070000
END:DAYLIGHT
BEGIN:STANDARD
TZOFFSETFROM:-0400
TZOFFSETTO:-0500
TZNAME:EST
DTSTART:20251102T060000
END:STANDARD
BEGIN:DAYLIGHT
TZOFFSETFROM:-0500
TZOFFSETTO:-0400
TZNAME:EDT
DTSTART:20260308T070000
END:DAYLIGHT
BEGIN:STANDARD
TZOFFSETFROM:-0400
TZOFFSETTO:-0500
TZNAME:EST
DTSTART:20261101T060000
END:STANDARD
BEGIN:DAYLIGHT
TZOFFSETFROM:-0500
TZOFFSETTO:-0400
TZNAME:EDT
DTSTART:20270314T070000
END:DAYLIGHT
BEGIN:STANDARD
TZOFFSETFROM:-0400
TZOFFSETTO:-0500
TZNAME:EST
DTSTART:20271107T060000
END:STANDARD
END:VTIMEZONE
BEGIN:VEVENT
DTSTART;TZID=America/New_York:20260418T213000
DTEND;TZID=America/New_York:20260419T003000
DTSTAMP:20260421T045835
CREATED:20250929T160018Z
LAST-MODIFIED:20260420T195427Z
UID:10002788-1776547800-1776558600@www.cabbyshack.com
SUMMARY:The Jody Moore Band
DESCRIPTION:High Energy Dance Party Fun! Classic and Modern Rock\, Pop\, Country\, Funk\, and Dance!
URL:https://www.cabbyshack.com/event/the-jody-moore-band-2/2026-04-18/
LOCATION:CabbyShack\, 30 Town Wharf\, Plymouth\, MA\, 02360\, United States
CATEGORIES:Music
ATTACH;FMTTYPE=image/jpeg:https://www.cabbyshack.com/wp-content/uploads/2023/09/Jody-Moore-Band-sq.jpg
END:VEVENT
BEGIN:VEVENT
DTSTART;TZID=America/New_York:20260419T160000
DTEND;TZID=America/New_York:20260419T190000
DTSTAMP:20260421T045835
CREATED:20250724T182918Z
LAST-MODIFIED:20260420T195034Z
UID:10002699-1776614400-1776625200@www.cabbyshack.com
SUMMARY:Chris Ballerini
DESCRIPTION:Singer-songwriter and guitarist hailing from the South Shore of Massachusetts.
URL:https://www.cabbyshack.com/event/chris-ballerini/2026-04-19/
LOCATION:CabbyShack\, 30 Town Wharf\, Plymouth\, MA\, 02360\, United States
CATEGORIES:Music
ATTACH;FMTTYPE=image/jpeg:https://www.cabbyshack.com/wp-content/uploads/2025/07/chris-ballerini-sq.jpg
END:VEVENT
BEGIN:VEVENT
DTSTART;TZID=America/New_York:20260424T160000
DTEND;TZID=America/New_York:20260424T190000
DTSTAMP:20260421T045835
CREATED:20230727T195440Z
LAST-MODIFIED:20260420T191612Z
UID:10002836-1777046400-1777057200@www.cabbyshack.com
SUMMARY:Mike Kane
DESCRIPTION:Acoustic blues and Americana musician from the mountains of Asheville\, North Carolina. (Photo by Ryan Love)
URL:https://www.cabbyshack.com/event/mike-kane/2026-04-24/
LOCATION:CabbyShack\, 30 Town Wharf\, Plymouth\, MA\, 02360\, United States
CATEGORIES:Music
ATTACH;FMTTYPE=image/jpeg:https://www.cabbyshack.com/wp-content/uploads/2023/07/Mike-Kane-Photo-Ryan-Love-sq.jpg
END:VEVENT
BEGIN:VEVENT
DTSTART;TZID=America/New_York:20260424T213000
DTEND;TZID=America/New_York:20260425T003000
DTSTAMP:20260421T045835
CREATED:20230801T135812Z
LAST-MODIFIED:20260420T200242Z
UID:10002828-1777066200-1777077000@www.cabbyshack.com
SUMMARY:The Jake Ash Band
DESCRIPTION:Incorporating traditional and modern country with northeast-flavored rock to produce incredibly catchy\, original music that makes you instantly want to sing along!
URL:https://www.cabbyshack.com/event/the-jake-ash-band/2026-04-24/
LOCATION:CabbyShack\, 30 Town Wharf\, Plymouth\, MA\, 02360\, United States
CATEGORIES:Music
ATTACH;FMTTYPE=image/jpeg:https://www.cabbyshack.com/wp-content/uploads/2023/08/jake-ash-band.jpg
END:VEVENT
BEGIN:VEVENT
DTSTART;TZID=America/New_York:20260425T150000
DTEND;TZID=America/New_York:20260425T180000
DTSTAMP:20260421T045835
CREATED:20230728T200234Z
LAST-MODIFIED:20260420T192316Z
UID:10002794-1777129200-1777140000@www.cabbyshack.com
SUMMARY:Hitch
DESCRIPTION:Plymouth Singer-Songwriter Musician
URL:https://www.cabbyshack.com/event/hitch/2026-04-25/
LOCATION:CabbyShack\, 30 Town Wharf\, Plymouth\, MA\, 02360\, United States
CATEGORIES:Music
ATTACH;FMTTYPE=image/jpeg:https://www.cabbyshack.com/wp-content/uploads/2023/07/Hitch-sq.jpg
END:VEVENT
BEGIN:VEVENT
DTSTART;TZID=America/New_York:20260425T213000
DTEND;TZID=America/New_York:20260426T003000
DTSTAMP:20260421T045835
CREATED:20240102T182041Z
LAST-MODIFIED:20260420T195544Z
UID:10002837-1777152600-1777163400@www.cabbyshack.com
SUMMARY:The Curve
DESCRIPTION:Ready to entertain with danceable Rock and Pop classics from the 70s to the modern era.
URL:https://www.cabbyshack.com/event/the-curve-2/2026-04-25/
LOCATION:CabbyShack\, 30 Town Wharf\, Plymouth\, MA\, 02360\, United States
CATEGORIES:Music
ATTACH;FMTTYPE=image/jpeg:https://www.cabbyshack.com/wp-content/uploads/2023/08/The-Curve.jpg
END:VEVENT
BEGIN:VEVENT
DTSTART;TZID=America/New_York:20260426T160000
DTEND;TZID=America/New_York:20260426T190000
DTSTAMP:20260421T045835
CREATED:20230731T175714Z
LAST-MODIFIED:20260420T194807Z
UID:10002786-1777219200-1777230000@www.cabbyshack.com
SUMMARY:Suzanne McNeil
DESCRIPTION:Pop and rock roots with warm vocal undertones.
URL:https://www.cabbyshack.com/event/suzanne-mcneil/2026-04-26/
LOCATION:CabbyShack\, 30 Town Wharf\, Plymouth\, MA\, 02360\, United States
CATEGORIES:Music
ATTACH;FMTTYPE=image/png:https://www.cabbyshack.com/wp-content/uploads/2023/07/Suzanne-McNeil.png
END:VEVENT
BEGIN:VEVENT
DTSTART;TZID=America/New_York:20260501T160000
DTEND;TZID=America/New_York:20260501T190000
DTSTAMP:20260421T045835
CREATED:20230727T195440Z
LAST-MODIFIED:20260420T191612Z
UID:10002846-1777651200-1777662000@www.cabbyshack.com
SUMMARY:Mike Kane
DESCRIPTION:Acoustic blues and Americana musician from the mountains of Asheville\, North Carolina. (Photo by Ryan Love)
URL:https://www.cabbyshack.com/event/mike-kane/2026-05-01/
LOCATION:CabbyShack\, 30 Town Wharf\, Plymouth\, MA\, 02360\, United States
CATEGORIES:Music
ATTACH;FMTTYPE=image/jpeg:https://www.cabbyshack.com/wp-content/uploads/2023/07/Mike-Kane-Photo-Ryan-Love-sq.jpg
END:VEVENT
BEGIN:VEVENT
DTSTART;TZID=America/New_York:20260501T213000
DTEND;TZID=America/New_York:20260502T003000
DTSTAMP:20260421T045835
CREATED:20260303T165043Z
LAST-MODIFIED:20260420T191929Z
UID:10002853-1777671000-1777681800@www.cabbyshack.com
SUMMARY:DRD
DESCRIPTION:Live music
URL:https://www.cabbyshack.com/event/drd/2026-05-01/
LOCATION:CabbyShack\, 30 Town Wharf\, Plymouth\, MA\, 02360\, United States
CATEGORIES:Music
ATTACH;FMTTYPE=image/jpeg:https://www.cabbyshack.com/wp-content/uploads/2026/03/DRD-sq.jpg
END:VEVENT
BEGIN:VEVENT
DTSTART;TZID=America/New_York:20260502T150000
DTEND;TZID=America/New_York:20260502T180000
DTSTAMP:20260421T045835
CREATED:20230728T200234Z
LAST-MODIFIED:20260420T192316Z
UID:10002854-1777734000-1777744800@www.cabbyshack.com
SUMMARY:Hitch
DESCRIPTION:Plymouth Singer-Songwriter Musician
URL:https://www.cabbyshack.com/event/hitch/2026-05-02/
LOCATION:CabbyShack\, 30 Town Wharf\, Plymouth\, MA\, 02360\, United States
CATEGORIES:Music
ATTACH;FMTTYPE=image/jpeg:https://www.cabbyshack.com/wp-content/uploads/2023/07/Hitch-sq.jpg
END:VEVENT
BEGIN:VEVENT
DTSTART;TZID=America/New_York:20260502T213000
DTEND;TZID=America/New_York:20260503T003000
DTSTAMP:20260421T045835
CREATED:20230731T200218Z
LAST-MODIFIED:20260420T192524Z
UID:10002860-1777757400-1777768200@www.cabbyshack.com
SUMMARY:The Smoking Jackets
DESCRIPTION:3 time Best Wedding Band by South Shore Living Magazine
URL:https://www.cabbyshack.com/event/the-smoking-jackets/2026-05-02/
LOCATION:CabbyShack\, 30 Town Wharf\, Plymouth\, MA\, 02360\, United States
CATEGORIES:Music
ATTACH;FMTTYPE=image/jpeg:https://www.cabbyshack.com/wp-content/uploads/2023/07/Smoking-Jackets-sq.jpg
END:VEVENT
BEGIN:VEVENT
DTSTART;TZID=America/New_York:20260503T160000
DTEND;TZID=America/New_York:20260503T190000
DTSTAMP:20260421T045835
CREATED:20240423T205932Z
LAST-MODIFIED:20260420T192651Z
UID:10002862-1777824000-1777834800@www.cabbyshack.com
SUMMARY:Dylan Wheaton
DESCRIPTION:South Shore acoustic musician
URL:https://www.cabbyshack.com/event/dylan-wheaton/2026-05-03/
LOCATION:CabbyShack\, 30 Town Wharf\, Plymouth\, MA\, 02360\, United States
CATEGORIES:Music
ATTACH;FMTTYPE=image/jpeg:https://www.cabbyshack.com/wp-content/uploads/2024/04/dylan-wheaton-0425-sq.jpg
END:VEVENT
BEGIN:VEVENT
DTSTART;TZID=America/New_York:20260508T160000
DTEND;TZID=America/New_York:20260508T190000
DTSTAMP:20260421T045835
CREATED:20230801T132705Z
LAST-MODIFIED:20260420T193549Z
UID:10002885-1778256000-1778266800@www.cabbyshack.com
SUMMARY:Kyle Morrison
DESCRIPTION:Vocalist\, guitarist\, and songwriter performing a fusion of blues\, funk\, jazz\, reggae\, soul and a hint of country.
URL:https://www.cabbyshack.com/event/kyle-morrison/2026-05-08/
LOCATION:CabbyShack\, 30 Town Wharf\, Plymouth\, MA\, 02360\, United States
CATEGORIES:Music
ATTACH;FMTTYPE=image/jpeg:https://www.cabbyshack.com/wp-content/uploads/2023/08/Kyle-Morrison-sq.jpg
END:VEVENT
BEGIN:VEVENT
DTSTART;TZID=America/New_York:20260508T213000
DTEND;TZID=America/New_York:20260509T003000
DTSTAMP:20260421T045835
CREATED:20260420T203029Z
LAST-MODIFIED:20260420T203029Z
UID:10002924-1778275800-1778286600@www.cabbyshack.com
SUMMARY:SixFoxWhiskey
DESCRIPTION:SixFoxWhiskey shows their New England colors through a unique blend of rock\, funk\, and jam.
URL:https://www.cabbyshack.com/event/sixfoxwhiskey/
LOCATION:CabbyShack\, 30 Town Wharf\, Plymouth\, MA\, 02360\, United States
CATEGORIES:Music
ATTACH;FMTTYPE=image/jpeg:https://www.cabbyshack.com/wp-content/uploads/2026/04/six-fox-whiskey-sq.jpg
END:VEVENT
BEGIN:VEVENT
DTSTART;TZID=America/New_York:20260509T150000
DTEND;TZID=America/New_York:20260509T180000
DTSTAMP:20260421T045835
CREATED:20230728T200234Z
LAST-MODIFIED:20260420T192316Z
UID:10002855-1778338800-1778349600@www.cabbyshack.com
SUMMARY:Hitch
DESCRIPTION:Plymouth Singer-Songwriter Musician
URL:https://www.cabbyshack.com/event/hitch/2026-05-09/
LOCATION:CabbyShack\, 30 Town Wharf\, Plymouth\, MA\, 02360\, United States
CATEGORIES:Music
ATTACH;FMTTYPE=image/jpeg:https://www.cabbyshack.com/wp-content/uploads/2023/07/Hitch-sq.jpg
END:VEVENT
BEGIN:VEVENT
DTSTART;TZID=America/New_York:20260509T213000
DTEND;TZID=America/New_York:20260510T003000
DTSTAMP:20260421T045835
CREATED:20250417T183131Z
LAST-MODIFIED:20260420T193811Z
UID:10002887-1778362200-1778373000@www.cabbyshack.com
SUMMARY:Wut It Iz
DESCRIPTION:Playing everything from your favorite Motown\, Funk\, R&B\, Disco & Rock classics to today’s Pop hits.
URL:https://www.cabbyshack.com/event/wut-it-iz/2026-05-09/
LOCATION:CabbyShack\, 30 Town Wharf\, Plymouth\, MA\, 02360\, United States
CATEGORIES:Music
ATTACH;FMTTYPE=image/jpeg:https://www.cabbyshack.com/wp-content/uploads/2025/04/wut-it-iz-band-sq.jpg
END:VEVENT
BEGIN:VEVENT
DTSTART;TZID=America/New_York:20260510T160000
DTEND;TZID=America/New_York:20260510T190000
DTSTAMP:20260421T045835
CREATED:20230801T134457Z
LAST-MODIFIED:20260420T194034Z
UID:10002889-1778428800-1778439600@www.cabbyshack.com
SUMMARY:Matt Brown
DESCRIPTION:Solo vocalist and guitarist.
URL:https://www.cabbyshack.com/event/matt-brown/2026-05-10/
LOCATION:CabbyShack\, 30 Town Wharf\, Plymouth\, MA\, 02360\, United States
CATEGORIES:Music
ATTACH;FMTTYPE=image/jpeg:https://www.cabbyshack.com/wp-content/uploads/2023/08/Matt-Brown.jpg
END:VEVENT
BEGIN:VEVENT
DTSTART;TZID=America/New_York:20260514T210000
DTEND;TZID=America/New_York:20260515T000000
DTSTAMP:20260421T045835
CREATED:20240725T152437Z
LAST-MODIFIED:20260420T194211Z
UID:10002891-1778792400-1778803200@www.cabbyshack.com
SUMMARY:Pat & Mal
DESCRIPTION:Youngest of the seven Fey’s\, Patrick and Mallory have been entertaining since childhood.
URL:https://www.cabbyshack.com/event/pat-mal/2026-05-14/
LOCATION:CabbyShack\, 30 Town Wharf\, Plymouth\, MA\, 02360\, United States
CATEGORIES:Music
ATTACH;FMTTYPE=image/jpeg:https://www.cabbyshack.com/wp-content/uploads/2024/07/Pat-and-mal.jpg
END:VEVENT
BEGIN:VEVENT
DTSTART;TZID=America/New_York:20260515T160000
DTEND;TZID=America/New_York:20260515T190000
DTSTAMP:20260421T045835
CREATED:20250305T164058Z
LAST-MODIFIED:20260420T194328Z
UID:10002892-1778860800-1778871600@www.cabbyshack.com
SUMMARY:Fil Ramil
DESCRIPTION:Fil Ramil brings full-on energy to every gig. He’s a Berklee grad and a mainstay of the New England music scene.
URL:https://www.cabbyshack.com/event/fil-ramil/2026-05-15/
LOCATION:MA
CATEGORIES:Music
ATTACH;FMTTYPE=image/jpeg:https://www.cabbyshack.com/wp-content/uploads/2025/03/fil-ramil.jpg
END:VEVENT
BEGIN:VEVENT
DTSTART;TZID=America/New_York:20260515T213000
DTEND;TZID=America/New_York:20260516T003000
DTSTAMP:20260421T045835
CREATED:20250106T155410Z
LAST-MODIFIED:20260420T194442Z
UID:10002894-1778880600-1778891400@www.cabbyshack.com
SUMMARY:That 80's Band
DESCRIPTION:MA-based 5-piece band playing the best dance music from the best decade evah\, dude! Totally tubular!
URL:https://www.cabbyshack.com/event/that-80s-band/2026-05-15/
LOCATION:CabbyShack\, 30 Town Wharf\, Plymouth\, MA\, 02360\, United States
CATEGORIES:Music
ATTACH;FMTTYPE=image/jpeg:https://www.cabbyshack.com/wp-content/uploads/2025/01/that-80s-band-sq.jpg
END:VEVENT
BEGIN:VEVENT
DTSTART;TZID=America/New_York:20260516T150000
DTEND;TZID=America/New_York:20260516T180000
DTSTAMP:20260421T045835
CREATED:20230731T175714Z
LAST-MODIFIED:20260420T194807Z
UID:10002895-1778943600-1778954400@www.cabbyshack.com
SUMMARY:Suzanne McNeil
DESCRIPTION:Pop and rock roots with warm vocal undertones.
URL:https://www.cabbyshack.com/event/suzanne-mcneil/2026-05-16/
LOCATION:CabbyShack\, 30 Town Wharf\, Plymouth\, MA\, 02360\, United States
CATEGORIES:Music
ATTACH;FMTTYPE=image/png:https://www.cabbyshack.com/wp-content/uploads/2023/07/Suzanne-McNeil.png
END:VEVENT
BEGIN:VEVENT
DTSTART;TZID=America/New_York:20260516T213000
DTEND;TZID=America/New_York:20260517T003000
DTSTAMP:20260421T045835
CREATED:20231121T185004Z
LAST-MODIFIED:20260420T194916Z
UID:10002897-1778967000-1778977800@www.cabbyshack.com
SUMMARY:Slider
DESCRIPTION:
URL:https://www.cabbyshack.com/event/slider/2026-05-16/
LOCATION:CabbyShack\, 30 Town Wharf\, Plymouth\, MA\, 02360\, United States
CATEGORIES:Music
ATTACH;FMTTYPE=image/jpeg:https://www.cabbyshack.com/wp-content/uploads/2023/11/Slider.jpg
END:VEVENT
BEGIN:VEVENT
DTSTART;TZID=America/New_York:20260517T160000
DTEND;TZID=America/New_York:20260517T190000
DTSTAMP:20260421T045835
CREATED:20250724T182918Z
LAST-MODIFIED:20260420T195034Z
UID:10002898-1779033600-1779044400@www.cabbyshack.com
SUMMARY:Chris Ballerini
DESCRIPTION:Singer-songwriter and guitarist hailing from the South Shore of Massachusetts.
URL:https://www.cabbyshack.com/event/chris-ballerini/2026-05-17/
LOCATION:CabbyShack\, 30 Town Wharf\, Plymouth\, MA\, 02360\, United States
CATEGORIES:Music
ATTACH;FMTTYPE=image/jpeg:https://www.cabbyshack.com/wp-content/uploads/2025/07/chris-ballerini-sq.jpg
END:VEVENT
BEGIN:VEVENT
DTSTART;TZID=America/New_York:20260521T170000
DTEND;TZID=America/New_York:20260521T200000
DTSTAMP:20260421T045835
CREATED:20230727T195440Z
LAST-MODIFIED:20260420T191612Z
UID:10002847-1779382800-1779393600@www.cabbyshack.com
SUMMARY:Mike Kane
DESCRIPTION:Acoustic blues and Americana musician from the mountains of Asheville\, North Carolina. (Photo by Ryan Love)
URL:https://www.cabbyshack.com/event/mike-kane/2026-05-21/
LOCATION:CabbyShack\, 30 Town Wharf\, Plymouth\, MA\, 02360\, United States
CATEGORIES:Music
ATTACH;FMTTYPE=image/jpeg:https://www.cabbyshack.com/wp-content/uploads/2023/07/Mike-Kane-Photo-Ryan-Love-sq.jpg
END:VEVENT
BEGIN:VEVENT
DTSTART;TZID=America/New_York:20260521T213000
DTEND;TZID=America/New_York:20260522T003000
DTSTAMP:20260421T045835
CREATED:20260420T203802Z
LAST-MODIFIED:20260420T203802Z
UID:10002925-1779399000-1779409800@www.cabbyshack.com
SUMMARY:Brian & Chris
DESCRIPTION:Brian & Chris of B&B Music Factory will provide some fun acoustic tunes!
URL:https://www.cabbyshack.com/event/brian-chris/
LOCATION:CabbyShack\, 30 Town Wharf\, Plymouth\, MA\, 02360\, United States
CATEGORIES:Music
ATTACH;FMTTYPE=image/jpeg:https://www.cabbyshack.com/wp-content/uploads/2026/04/brian-and-chris-sq.jpg
END:VEVENT
BEGIN:VEVENT
DTSTART;TZID=America/New_York:20260522T160000
DTEND;TZID=America/New_York:20260522T190000
DTSTAMP:20260421T045835
CREATED:20241028T175449Z
LAST-MODIFIED:20260420T195257Z
UID:10002900-1779465600-1779476400@www.cabbyshack.com
SUMMARY:Nick Valianti
DESCRIPTION:Marshfield singer/songwriter pulling from Classic Rock\, Country\, Folk and Pop influences.
URL:https://www.cabbyshack.com/event/nick-valianti/2026-05-22/
LOCATION:CabbyShack\, 30 Town Wharf\, Plymouth\, MA\, 02360\, United States
CATEGORIES:Music
ATTACH;FMTTYPE=image/jpeg:https://www.cabbyshack.com/wp-content/uploads/2024/10/nick-valianti-25-sq.jpg
END:VEVENT
BEGIN:VEVENT
DTSTART;TZID=America/New_York:20260522T213000
DTEND;TZID=America/New_York:20260523T003000
DTSTAMP:20260421T045835
CREATED:20250929T160018Z
LAST-MODIFIED:20260420T195427Z
UID:10002902-1779485400-1779496200@www.cabbyshack.com
SUMMARY:The Jody Moore Band
DESCRIPTION:High Energy Dance Party Fun! Classic and Modern Rock\, Pop\, Country\, Funk\, and Dance!
URL:https://www.cabbyshack.com/event/the-jody-moore-band-2/2026-05-22/
LOCATION:CabbyShack\, 30 Town Wharf\, Plymouth\, MA\, 02360\, United States
CATEGORIES:Music
ATTACH;FMTTYPE=image/jpeg:https://www.cabbyshack.com/wp-content/uploads/2023/09/Jody-Moore-Band-sq.jpg
END:VEVENT
BEGIN:VEVENT
DTSTART;TZID=America/New_York:20260523T150000
DTEND;TZID=America/New_York:20260523T180000
DTSTAMP:20260421T045835
CREATED:20230728T200234Z
LAST-MODIFIED:20260420T192316Z
UID:10002856-1779548400-1779559200@www.cabbyshack.com
SUMMARY:Hitch
DESCRIPTION:Plymouth Singer-Songwriter Musician
URL:https://www.cabbyshack.com/event/hitch/2026-05-23/
LOCATION:CabbyShack\, 30 Town Wharf\, Plymouth\, MA\, 02360\, United States
CATEGORIES:Music
ATTACH;FMTTYPE=image/jpeg:https://www.cabbyshack.com/wp-content/uploads/2023/07/Hitch-sq.jpg
END:VEVENT
BEGIN:VEVENT
DTSTART;TZID=America/New_York:20260523T213000
DTEND;TZID=America/New_York:20260524T003000
DTSTAMP:20260421T045835
CREATED:20240102T182041Z
LAST-MODIFIED:20260420T195544Z
UID:10002904-1779571800-1779582600@www.cabbyshack.com
SUMMARY:The Curve
DESCRIPTION:Ready to entertain with danceable Rock and Pop classics from the 70s to the modern era.
URL:https://www.cabbyshack.com/event/the-curve-2/2026-05-23/
LOCATION:CabbyShack\, 30 Town Wharf\, Plymouth\, MA\, 02360\, United States
CATEGORIES:Music
ATTACH;FMTTYPE=image/jpeg:https://www.cabbyshack.com/wp-content/uploads/2023/08/The-Curve.jpg
END:VEVENT
BEGIN:VEVENT
DTSTART;TZID=America/New_York:20260524T160000
DTEND;TZID=America/New_York:20260524T190000
DTSTAMP:20260421T045835
CREATED:20260420T204215Z
LAST-MODIFIED:20260420T204215Z
UID:10002926-1779638400-1779649200@www.cabbyshack.com
SUMMARY:Meghan Donofrio
DESCRIPTION:Solo acoustic performer and songwriter with a rounded vocal style.
URL:https://www.cabbyshack.com/event/meghan-donofrio/
LOCATION:CabbyShack\, 30 Town Wharf\, Plymouth\, MA\, 02360\, United States
CATEGORIES:Music
ATTACH;FMTTYPE=image/jpeg:https://www.cabbyshack.com/wp-content/uploads/2026/04/meghan-donofrio-sq.jpg
END:VEVENT
END:VCALENDAR