BEGIN:VCALENDAR
VERSION:2.0
PRODID:-//Cabby Shack - ECPv6.15.12.2//NONSGML v1.0//EN
CALSCALE:GREGORIAN
METHOD:PUBLISH
X-WR-CALNAME:Cabby Shack
X-ORIGINAL-URL:https://www.cabbyshack.com
X-WR-CALDESC:Events for Cabby Shack
REFRESH-INTERVAL;VALUE=DURATION:PT1H
X-Robots-Tag:noindex
X-PUBLISHED-TTL:PT1H
BEGIN:VTIMEZONE
TZID:America/New_York
BEGIN:DAYLIGHT
TZOFFSETFROM:-0500
TZOFFSETTO:-0400
TZNAME:EDT
DTSTART:20240310T070000
END:DAYLIGHT
BEGIN:STANDARD
TZOFFSETFROM:-0400
TZOFFSETTO:-0500
TZNAME:EST
DTSTART:20241103T060000
END:STANDARD
BEGIN:DAYLIGHT
TZOFFSETFROM:-0500
TZOFFSETTO:-0400
TZNAME:EDT
DTSTART:20250309T070000
END:DAYLIGHT
BEGIN:STANDARD
TZOFFSETFROM:-0400
TZOFFSETTO:-0500
TZNAME:EST
DTSTART:20251102T060000
END:STANDARD
BEGIN:DAYLIGHT
TZOFFSETFROM:-0500
TZOFFSETTO:-0400
TZNAME:EDT
DTSTART:20260308T070000
END:DAYLIGHT
BEGIN:STANDARD
TZOFFSETFROM:-0400
TZOFFSETTO:-0500
TZNAME:EST
DTSTART:20261101T060000
END:STANDARD
END:VTIMEZONE
BEGIN:VEVENT
DTSTART;TZID=America/New_York:20251003T160000
DTEND;TZID=America/New_York:20251003T190000
DTSTAMP:20260421T042603
CREATED:20250930T143848Z
LAST-MODIFIED:20250930T143848Z
UID:10002460-1759507200-1759518000@www.cabbyshack.com
SUMMARY:Brian Cabral
DESCRIPTION:One man band playing radio favorites and one hit wonders with backbeats and layered guitar.
URL:https://www.cabbyshack.com/event/brian-cabral/
LOCATION:CabbyShack\, 30 Town Wharf\, Plymouth\, MA\, 02360\, United States
CATEGORIES:Music
ATTACH;FMTTYPE=image/jpeg:https://www.cabbyshack.com/wp-content/uploads/2025/09/brian-cabral-sq.jpg
END:VEVENT
BEGIN:VEVENT
DTSTART;TZID=America/New_York:20250927T213000
DTEND;TZID=America/New_York:20250928T003000
DTSTAMP:20260421T042603
CREATED:20230731T202420Z
LAST-MODIFIED:20260420T200348Z
UID:10002408-1759008600-1759019400@www.cabbyshack.com
SUMMARY:Gainsville Road
DESCRIPTION:Female-fronted cover band skillfully blending recent hits with well know classics – remixes\, mashups\, high-energy.
URL:https://www.cabbyshack.com/event/gainsville-road/2025-09-27/
LOCATION:MA
CATEGORIES:Music
ATTACH;FMTTYPE=image/jpeg:https://www.cabbyshack.com/wp-content/uploads/2023/07/Gainsville-Road-sq.jpg
END:VEVENT
BEGIN:VEVENT
DTSTART;TZID=America/New_York:20250927T150000
DTEND;TZID=America/New_York:20250927T180000
DTSTAMP:20260421T042603
CREATED:20230728T200234Z
LAST-MODIFIED:20260420T192316Z
UID:10002403-1758985200-1758996000@www.cabbyshack.com
SUMMARY:Hitch
DESCRIPTION:Plymouth Singer-Songwriter Musician
URL:https://www.cabbyshack.com/event/hitch/2025-09-27/
LOCATION:CabbyShack\, 30 Town Wharf\, Plymouth\, MA\, 02360\, United States
CATEGORIES:Music
ATTACH;FMTTYPE=image/jpeg:https://www.cabbyshack.com/wp-content/uploads/2023/07/Hitch-sq.jpg
END:VEVENT
BEGIN:VEVENT
DTSTART;TZID=America/New_York:20250926T213000
DTEND;TZID=America/New_York:20250927T003000
DTSTAMP:20260421T042604
CREATED:20231121T185004Z
LAST-MODIFIED:20260420T194916Z
UID:10002407-1758922200-1758933000@www.cabbyshack.com
SUMMARY:Slider
DESCRIPTION:
URL:https://www.cabbyshack.com/event/slider/2025-09-26/
LOCATION:CabbyShack\, 30 Town Wharf\, Plymouth\, MA\, 02360\, United States
CATEGORIES:Music
ATTACH;FMTTYPE=image/jpeg:https://www.cabbyshack.com/wp-content/uploads/2023/11/Slider.jpg
END:VEVENT
BEGIN:VEVENT
DTSTART;TZID=America/New_York:20250926T160000
DTEND;TZID=America/New_York:20250926T190000
DTSTAMP:20260421T042604
CREATED:20230801T134457Z
LAST-MODIFIED:20260420T194034Z
UID:10002406-1758902400-1758913200@www.cabbyshack.com
SUMMARY:Matt Brown
DESCRIPTION:Solo vocalist and guitarist.
URL:https://www.cabbyshack.com/event/matt-brown/2025-09-26/
LOCATION:CabbyShack\, 30 Town Wharf\, Plymouth\, MA\, 02360\, United States
CATEGORIES:Music
ATTACH;FMTTYPE=image/jpeg:https://www.cabbyshack.com/wp-content/uploads/2023/08/Matt-Brown.jpg
END:VEVENT
BEGIN:VEVENT
DTSTART;TZID=America/New_York:20250925T210000
DTEND;TZID=America/New_York:20250926T000000
DTSTAMP:20260421T042604
CREATED:20250305T165644Z
LAST-MODIFIED:20260108T144908Z
UID:10002405-1758834000-1758844800@www.cabbyshack.com
SUMMARY:Miss Julia Violet
DESCRIPTION:Get ready to be enchanted by the effervescent melodies and infectious energy of a truly extraordinary performer\, whose vibrant vocals will leave you smiling\, dancing\, and craving for more.
URL:https://www.cabbyshack.com/event/miss-julia-violet/2025-09-25/
LOCATION:CabbyShack\, 30 Town Wharf\, Plymouth\, MA\, 02360\, United States
CATEGORIES:Music
ATTACH;FMTTYPE=image/jpeg:https://www.cabbyshack.com/wp-content/uploads/2025/03/miss-julia-violet.jpg
END:VEVENT
BEGIN:VEVENT
DTSTART;TZID=America/New_York:20250925T170000
DTEND;TZID=America/New_York:20250925T200000
DTSTAMP:20260421T042604
CREATED:20230727T195440Z
LAST-MODIFIED:20260420T191612Z
UID:10002418-1758819600-1758830400@www.cabbyshack.com
SUMMARY:Mike Kane
DESCRIPTION:Acoustic blues and Americana musician from the mountains of Asheville\, North Carolina. (Photo by Ryan Love)
URL:https://www.cabbyshack.com/event/mike-kane/2025-09-25/
LOCATION:CabbyShack\, 30 Town Wharf\, Plymouth\, MA\, 02360\, United States
CATEGORIES:Music
ATTACH;FMTTYPE=image/jpeg:https://www.cabbyshack.com/wp-content/uploads/2023/07/Mike-Kane-Photo-Ryan-Love-sq.jpg
END:VEVENT
BEGIN:VEVENT
DTSTART;TZID=America/New_York:20250921T160000
DTEND;TZID=America/New_York:20250921T190000
DTSTAMP:20260421T042604
CREATED:20240730T190442Z
LAST-MODIFIED:20250916T170848Z
UID:10002399-1758470400-1758481200@www.cabbyshack.com
SUMMARY:Kim and Mike
DESCRIPTION:Acoustic duo covering your favorite songs!
URL:https://www.cabbyshack.com/event/kim-merkel-michael-leach/2025-09-21/
LOCATION:CabbyShack\, 30 Town Wharf\, Plymouth\, MA\, 02360\, United States
CATEGORIES:Music
ATTACH;FMTTYPE=image/jpeg:https://www.cabbyshack.com/wp-content/uploads/2024/07/kim-and-mike-2025.jpg
END:VEVENT
BEGIN:VEVENT
DTSTART;TZID=America/New_York:20250920T213000
DTEND;TZID=America/New_York:20250921T003000
DTSTAMP:20260421T042604
CREATED:20230908T170028Z
LAST-MODIFIED:20250929T155621Z
UID:10002413-1758403800-1758414600@www.cabbyshack.com
SUMMARY:The Jody Moore Band
DESCRIPTION:High Energy Dance Party Fun! Classic and Modern Rock\, Pop\, Country\, Funk\, and Dance!
URL:https://www.cabbyshack.com/event/the-jody-moore-band/2025-09-20/
LOCATION:CabbyShack\, 30 Town Wharf\, Plymouth\, MA\, 02360\, United States
CATEGORIES:Music
ATTACH;FMTTYPE=image/jpeg:https://www.cabbyshack.com/wp-content/uploads/2023/09/Jody-Moore-Band-sq.jpg
END:VEVENT
BEGIN:VEVENT
DTSTART;TZID=America/New_York:20250920T150000
DTEND;TZID=America/New_York:20250920T180000
DTSTAMP:20260421T042604
CREATED:20230728T200234Z
LAST-MODIFIED:20260420T192316Z
UID:10002402-1758380400-1758391200@www.cabbyshack.com
SUMMARY:Hitch
DESCRIPTION:Plymouth Singer-Songwriter Musician
URL:https://www.cabbyshack.com/event/hitch/2025-09-20/
LOCATION:CabbyShack\, 30 Town Wharf\, Plymouth\, MA\, 02360\, United States
CATEGORIES:Music
ATTACH;FMTTYPE=image/jpeg:https://www.cabbyshack.com/wp-content/uploads/2023/07/Hitch-sq.jpg
END:VEVENT
BEGIN:VEVENT
DTSTART;TZID=America/New_York:20250919T213000
DTEND;TZID=America/New_York:20250920T003000
DTSTAMP:20260421T042604
CREATED:20250724T174407Z
LAST-MODIFIED:20250828T194213Z
UID:10002401-1758317400-1758328200@www.cabbyshack.com
SUMMARY:Wild Nites
DESCRIPTION:New England’s “Funnest” Party Band
URL:https://www.cabbyshack.com/event/wild-nites/2025-09-19/
LOCATION:CabbyShack\, 30 Town Wharf\, Plymouth\, MA\, 02360\, United States
CATEGORIES:Music
ATTACH;FMTTYPE=image/jpeg:https://www.cabbyshack.com/wp-content/uploads/2025/07/wild-nites-sq.jpg
END:VEVENT
BEGIN:VEVENT
DTSTART;TZID=America/New_York:20250919T160000
DTEND;TZID=America/New_York:20250919T190000
DTSTAMP:20260421T042604
CREATED:20240301T203056Z
LAST-MODIFIED:20260420T200127Z
UID:10002400-1758297600-1758308400@www.cabbyshack.com
SUMMARY:Justin Beech
DESCRIPTION:This Berklee-trained musician has toured the world in his original bands.
URL:https://www.cabbyshack.com/event/justin-beech/2025-09-19/
LOCATION:CabbyShack\, 30 Town Wharf\, Plymouth\, MA\, 02360\, United States
CATEGORIES:Music
ATTACH;FMTTYPE=image/jpeg:https://www.cabbyshack.com/wp-content/uploads/2024/03/Justin-beech-sq.jpg
END:VEVENT
BEGIN:VEVENT
DTSTART;TZID=America/New_York:20250918T170000
DTEND;TZID=America/New_York:20250918T200000
DTSTAMP:20260421T042604
CREATED:20230727T195440Z
LAST-MODIFIED:20260420T191612Z
UID:10002412-1758214800-1758225600@www.cabbyshack.com
SUMMARY:Mike Kane
DESCRIPTION:Acoustic blues and Americana musician from the mountains of Asheville\, North Carolina. (Photo by Ryan Love)
URL:https://www.cabbyshack.com/event/mike-kane/2025-09-18/
LOCATION:CabbyShack\, 30 Town Wharf\, Plymouth\, MA\, 02360\, United States
CATEGORIES:Music
ATTACH;FMTTYPE=image/jpeg:https://www.cabbyshack.com/wp-content/uploads/2023/07/Mike-Kane-Photo-Ryan-Love-sq.jpg
END:VEVENT
BEGIN:VEVENT
DTSTART;TZID=America/New_York:20250917T210000
DTEND;TZID=America/New_York:20250918T000000
DTSTAMP:20260421T042604
CREATED:20230728T180723Z
LAST-MODIFIED:20260420T201912Z
UID:10002354-1758142800-1758153600@www.cabbyshack.com
SUMMARY:Sugar Bears Duo
DESCRIPTION:South Shore’s premier acoustic duo
URL:https://www.cabbyshack.com/event/sugar-bears-duo-2/2025-09-17/
LOCATION:CabbyShack\, 30 Town Wharf\, Plymouth\, MA\, 02360\, United States
CATEGORIES:Music
ATTACH;FMTTYPE=image/jpeg:https://www.cabbyshack.com/wp-content/uploads/2023/07/Sugar-Bears-Duo.jpg
END:VEVENT
BEGIN:VEVENT
DTSTART;TZID=America/New_York:20250914T160000
DTEND;TZID=America/New_York:20250914T190000
DTSTAMP:20260421T042604
CREATED:20250724T182918Z
LAST-MODIFIED:20260420T195034Z
UID:10002397-1757865600-1757876400@www.cabbyshack.com
SUMMARY:Chris Ballerini
DESCRIPTION:Singer-songwriter and guitarist hailing from the South Shore of Massachusetts.
URL:https://www.cabbyshack.com/event/chris-ballerini/2025-09-14/
LOCATION:CabbyShack\, 30 Town Wharf\, Plymouth\, MA\, 02360\, United States
CATEGORIES:Music
ATTACH;FMTTYPE=image/jpeg:https://www.cabbyshack.com/wp-content/uploads/2025/07/chris-ballerini-sq.jpg
END:VEVENT
BEGIN:VEVENT
DTSTART;TZID=America/New_York:20250913T213000
DTEND;TZID=America/New_York:20250914T003000
DTSTAMP:20260421T042604
CREATED:20230731T203110Z
LAST-MODIFIED:20251222T142435Z
UID:10002411-1757799000-1757809800@www.cabbyshack.com
SUMMARY:Stevey Burke & Friends
DESCRIPTION:Jammin’ out with some tunes!
URL:https://www.cabbyshack.com/event/stevey-burke-friends/2025-09-13/
LOCATION:CabbyShack\, 30 Town Wharf\, Plymouth\, MA\, 02360\, United States
CATEGORIES:Music
ATTACH;FMTTYPE=image/jpeg:https://www.cabbyshack.com/wp-content/uploads/2023/07/Stevey-Burke.jpeg
END:VEVENT
BEGIN:VEVENT
DTSTART;TZID=America/New_York:20250913T150000
DTEND;TZID=America/New_York:20250913T180000
DTSTAMP:20260421T042604
CREATED:20250828T193804Z
LAST-MODIFIED:20250828T193804Z
UID:10002396-1757775600-1757786400@www.cabbyshack.com
SUMMARY:Eric Beau
DESCRIPTION:Side effects may include head bobbing and beer spilling.
URL:https://www.cabbyshack.com/event/eric-beau/
LOCATION:CabbyShack\, 30 Town Wharf\, Plymouth\, MA\, 02360\, United States
CATEGORIES:Music
ATTACH;FMTTYPE=image/jpeg:https://www.cabbyshack.com/wp-content/uploads/2025/08/Eric-Beau-sq.jpg
END:VEVENT
BEGIN:VEVENT
DTSTART;TZID=America/New_York:20250912T213000
DTEND;TZID=America/New_York:20250913T003000
DTSTAMP:20260421T042604
CREATED:20250325T180845Z
LAST-MODIFIED:20251223T145158Z
UID:10002395-1757712600-1757723400@www.cabbyshack.com
SUMMARY:Zak Jacobson Syndicate
DESCRIPTION:Playing shows on the South Shore of Massachusetts and beyond! With the full band\, and also acoustic!
URL:https://www.cabbyshack.com/event/zak-jacobson-syndicate/2025-09-12/
LOCATION:CabbyShack\, 30 Town Wharf\, Plymouth\, MA\, 02360\, United States
CATEGORIES:Music
ATTACH;FMTTYPE=image/jpeg:https://www.cabbyshack.com/wp-content/uploads/2024/06/Zak-Jacobson-Syndicate.jpg
END:VEVENT
BEGIN:VEVENT
DTSTART;TZID=America/New_York:20250912T170000
DTEND;TZID=America/New_York:20250912T200000
DTSTAMP:20260421T042604
CREATED:20250828T193357Z
LAST-MODIFIED:20250828T193357Z
UID:10002394-1757696400-1757707200@www.cabbyshack.com
SUMMARY:Joe Genest
DESCRIPTION:Chill acoustic tunes.
URL:https://www.cabbyshack.com/event/joe-genest/
LOCATION:CabbyShack\, 30 Town Wharf\, Plymouth\, MA\, 02360\, United States
CATEGORIES:Music
ATTACH;FMTTYPE=image/jpeg:https://www.cabbyshack.com/wp-content/uploads/2025/08/joe-no-jeff-sq.jpg
END:VEVENT
BEGIN:VEVENT
DTSTART;TZID=America/New_York:20250911T210000
DTEND;TZID=America/New_York:20250912T000000
DTSTAMP:20260421T042604
CREATED:20240618T190223Z
LAST-MODIFIED:20250828T192929Z
UID:10002393-1757624400-1757635200@www.cabbyshack.com
SUMMARY:Steve Mazzetta
DESCRIPTION:Acoustic Soul musician
URL:https://www.cabbyshack.com/event/steve-mazzetta/2025-09-11/
LOCATION:CabbyShack\, 30 Town Wharf\, Plymouth\, MA\, 02360\, United States
CATEGORIES:Music
ATTACH;FMTTYPE=image/jpeg:https://www.cabbyshack.com/wp-content/uploads/2024/06/steve-mazzetta-sq.jpg
END:VEVENT
BEGIN:VEVENT
DTSTART;TZID=America/New_York:20250910T210000
DTEND;TZID=America/New_York:20250911T000000
DTSTAMP:20260421T042604
CREATED:20250724T183233Z
LAST-MODIFIED:20250828T192831Z
UID:10002392-1757538000-1757548800@www.cabbyshack.com
SUMMARY:John DeBellis
DESCRIPTION:South Shore Musician playing whenever and wherever I can. Singing the songs you forgot you loved!
URL:https://www.cabbyshack.com/event/john-debellis/2025-09-10/
LOCATION:CabbyShack\, 30 Town Wharf\, Plymouth\, MA\, 02360\, United States
CATEGORIES:Music
ATTACH;FMTTYPE=image/jpeg:https://www.cabbyshack.com/wp-content/uploads/2025/07/john-debellis-sq.jpg
END:VEVENT
BEGIN:VEVENT
DTSTART;TZID=America/New_York:20250907T160000
DTEND;TZID=America/New_York:20250907T190000
DTSTAMP:20260421T042604
CREATED:20230731T174451Z
LAST-MODIFIED:20250828T190927Z
UID:10002351-1757260800-1757271600@www.cabbyshack.com
SUMMARY:Luff Kidd
DESCRIPTION:Funk\, Reggae\, Acoustic\, Rock.
URL:https://www.cabbyshack.com/event/luff-kidd-trio/2025-09-07/
LOCATION:CabbyShack\, 30 Town Wharf\, Plymouth\, MA\, 02360\, United States
CATEGORIES:Music
ATTACH;FMTTYPE=image/jpeg:https://www.cabbyshack.com/wp-content/uploads/2023/07/Luff-Kidd-sq.jpg
END:VEVENT
BEGIN:VEVENT
DTSTART;TZID=America/New_York:20250906T213000
DTEND;TZID=America/New_York:20250907T003000
DTSTAMP:20260421T042604
CREATED:20230908T170028Z
LAST-MODIFIED:20250929T155621Z
UID:10002359-1757194200-1757205000@www.cabbyshack.com
SUMMARY:The Jody Moore Band
DESCRIPTION:High Energy Dance Party Fun! Classic and Modern Rock\, Pop\, Country\, Funk\, and Dance!
URL:https://www.cabbyshack.com/event/the-jody-moore-band/2025-09-06/
LOCATION:CabbyShack\, 30 Town Wharf\, Plymouth\, MA\, 02360\, United States
CATEGORIES:Music
ATTACH;FMTTYPE=image/jpeg:https://www.cabbyshack.com/wp-content/uploads/2023/09/Jody-Moore-Band-sq.jpg
END:VEVENT
BEGIN:VEVENT
DTSTART;TZID=America/New_York:20250906T150000
DTEND;TZID=America/New_York:20250906T180000
DTSTAMP:20260421T042604
CREATED:20250828T191916Z
LAST-MODIFIED:20250828T191916Z
UID:10002358-1757170800-1757181600@www.cabbyshack.com
SUMMARY:Matt Koelsch
DESCRIPTION:A passionate and thoughtful singer-songwriter.
URL:https://www.cabbyshack.com/event/matt-koelsch/
LOCATION:CabbyShack\, 30 Town Wharf\, Plymouth\, MA\, 02360\, United States
CATEGORIES:Music
ATTACH;FMTTYPE=image/jpeg:https://www.cabbyshack.com/wp-content/uploads/2025/08/Matt-Koelsch-sq.jpg
END:VEVENT
BEGIN:VEVENT
DTSTART;TZID=America/New_York:20250905T213000
DTEND;TZID=America/New_York:20250906T003000
DTSTAMP:20260421T042604
CREATED:20241028T175806Z
LAST-MODIFIED:20250828T191743Z
UID:10002357-1757107800-1757118600@www.cabbyshack.com
SUMMARY:Quincy and Co.
DESCRIPTION:A fresh and yet familiar sound of classic rock from the 60s & 70s
URL:https://www.cabbyshack.com/event/quincy-and-co/2025-09-05/
LOCATION:CabbyShack\, 30 Town Wharf\, Plymouth\, MA\, 02360\, United States
CATEGORIES:Music
ATTACH;FMTTYPE=image/jpeg:https://www.cabbyshack.com/wp-content/uploads/2023/11/Quincy-Medaglia-Trio.jpg
END:VEVENT
BEGIN:VEVENT
DTSTART;TZID=America/New_York:20250905T160000
DTEND;TZID=America/New_York:20250905T190000
DTSTAMP:20260421T042604
CREATED:20230801T135508Z
LAST-MODIFIED:20260402T172545Z
UID:10002356-1757088000-1757098800@www.cabbyshack.com
SUMMARY:Chris Merlan
DESCRIPTION:Acoustic covers performed as close to the original and originals. No fancy effects or playlists.
URL:https://www.cabbyshack.com/event/chris-merlan/2025-09-05/
LOCATION:CabbyShack\, 30 Town Wharf\, Plymouth\, MA\, 02360\, United States
CATEGORIES:Music
ATTACH;FMTTYPE=image/jpeg:https://www.cabbyshack.com/wp-content/uploads/2023/08/Chris-Merlan-NEW2023.jpg
END:VEVENT
BEGIN:VEVENT
DTSTART;TZID=America/New_York:20250904T210000
DTEND;TZID=America/New_York:20250905T000000
DTSTAMP:20260421T042604
CREATED:20230728T173829Z
LAST-MODIFIED:20260106T180922Z
UID:10002355-1757019600-1757030400@www.cabbyshack.com
SUMMARY:Radio Honey Duo
DESCRIPTION:A fun mix of Pop\, Top 40\, 90’s Alternative\, Classic\, and Modern Rock from Adele to Zeppelin.
URL:https://www.cabbyshack.com/event/radio-honey-duo/2025-09-04/
LOCATION:CabbyShack\, 30 Town Wharf\, Plymouth\, MA\, 02360\, United States
CATEGORIES:Music
ATTACH;FMTTYPE=image/jpeg:https://www.cabbyshack.com/wp-content/uploads/2023/07/Radio-honey-sq.jpg
END:VEVENT
BEGIN:VEVENT
DTSTART;TZID=America/New_York:20250903T210000
DTEND;TZID=America/New_York:20250904T000000
DTSTAMP:20260421T042604
CREATED:20230728T180723Z
LAST-MODIFIED:20260420T201912Z
UID:10002353-1756933200-1756944000@www.cabbyshack.com
SUMMARY:Sugar Bears Duo
DESCRIPTION:South Shore’s premier acoustic duo
URL:https://www.cabbyshack.com/event/sugar-bears-duo-2/2025-09-03/
LOCATION:CabbyShack\, 30 Town Wharf\, Plymouth\, MA\, 02360\, United States
CATEGORIES:Music
ATTACH;FMTTYPE=image/jpeg:https://www.cabbyshack.com/wp-content/uploads/2023/07/Sugar-Bears-Duo.jpg
END:VEVENT
BEGIN:VEVENT
DTSTART;TZID=America/New_York:20250901T160000
DTEND;TZID=America/New_York:20250901T190000
DTSTAMP:20260421T042604
CREATED:20230731T174451Z
LAST-MODIFIED:20250828T190927Z
UID:10002350-1756742400-1756753200@www.cabbyshack.com
SUMMARY:Luff Kidd
DESCRIPTION:Funk\, Reggae\, Acoustic\, Rock.
URL:https://www.cabbyshack.com/event/luff-kidd-trio/2025-09-01/
LOCATION:CabbyShack\, 30 Town Wharf\, Plymouth\, MA\, 02360\, United States
CATEGORIES:Music
ATTACH;FMTTYPE=image/jpeg:https://www.cabbyshack.com/wp-content/uploads/2023/07/Luff-Kidd-sq.jpg
END:VEVENT
BEGIN:VEVENT
DTSTART;TZID=America/New_York:20250831T213000
DTEND;TZID=America/New_York:20250901T003000
DTSTAMP:20260421T042604
CREATED:20250825T130630Z
LAST-MODIFIED:20250825T130653Z
UID:10002347-1756675800-1756686600@www.cabbyshack.com
SUMMARY:Mike & Sly Band
DESCRIPTION:Funk\, soul\, and rock n roll that will get your head bobbin’
URL:https://www.cabbyshack.com/event/mike-sly-band/
LOCATION:CabbyShack\, 30 Town Wharf\, Plymouth\, MA\, 02360\, United States
CATEGORIES:Music
ATTACH;FMTTYPE=image/jpeg:https://www.cabbyshack.com/wp-content/uploads/2025/08/mike-and-sly-25-sq.jpg
END:VEVENT
END:VCALENDAR