BEGIN:VCALENDAR
VERSION:2.0
PRODID:-//Cabby Shack - ECPv6.15.12.2//NONSGML v1.0//EN
CALSCALE:GREGORIAN
METHOD:PUBLISH
X-WR-CALNAME:Cabby Shack
X-ORIGINAL-URL:https://www.cabbyshack.com
X-WR-CALDESC:Events for Cabby Shack
REFRESH-INTERVAL;VALUE=DURATION:PT1H
X-Robots-Tag:noindex
X-PUBLISHED-TTL:PT1H
BEGIN:VTIMEZONE
TZID:America/New_York
BEGIN:DAYLIGHT
TZOFFSETFROM:-0500
TZOFFSETTO:-0400
TZNAME:EDT
DTSTART:20240310T070000
END:DAYLIGHT
BEGIN:STANDARD
TZOFFSETFROM:-0400
TZOFFSETTO:-0500
TZNAME:EST
DTSTART:20241103T060000
END:STANDARD
BEGIN:DAYLIGHT
TZOFFSETFROM:-0500
TZOFFSETTO:-0400
TZNAME:EDT
DTSTART:20250309T070000
END:DAYLIGHT
BEGIN:STANDARD
TZOFFSETFROM:-0400
TZOFFSETTO:-0500
TZNAME:EST
DTSTART:20251102T060000
END:STANDARD
BEGIN:DAYLIGHT
TZOFFSETFROM:-0500
TZOFFSETTO:-0400
TZNAME:EDT
DTSTART:20260308T070000
END:DAYLIGHT
BEGIN:STANDARD
TZOFFSETFROM:-0400
TZOFFSETTO:-0500
TZNAME:EST
DTSTART:20261101T060000
END:STANDARD
END:VTIMEZONE
BEGIN:VEVENT
DTSTART;TZID=America/New_York:20251112T180000
DTEND;TZID=America/New_York:20251112T200000
DTSTAMP:20260423T104658
CREATED:20251104T193745Z
LAST-MODIFIED:20251104T193745Z
UID:10002567-1762970400-1762977600@www.cabbyshack.com
SUMMARY:Spirits with Spirits
DESCRIPTION:Join Spirit Medium Sarah Angley for an evening of connection\, healing\, and heartfelt messages from the other side at Cabby Shack. During this special Spirits with Spirits event\, Sarah will bring through evidence and messages from loved ones in Spirit\, offering comfort\, clarity\, and validation to those in attendance.\n\n\n\nDoors open at 5:00 PM\, giving guests time to find a seat\, order food and drinks\, and settle in before the event begins. Readings will begin promptly at 6:00 PM and continue until 8:00 PM.\n\n\n\nThis is a gallery-style group reading. While Sarah will do her best to reach as many guests as possible\, a reading is not guaranteed for every attendee. However\, all will share in the uplifting energy and profound impact of the evening.\n\n\n\n Come early\, relax with a meal or drink\, and experience the magic of Spirit at Cabby Shack. \n\n\n\n Please note: All ticket sales are final. No refunds will be issued. Ages 15+\n\nPurchase Tickets
URL:https://www.cabbyshack.com/event/spirits-with-spirits/
LOCATION:CabbyShack\, 30 Town Wharf\, Plymouth\, MA\, 02360\, United States
CATEGORIES:Special Events
ATTACH;FMTTYPE=image/jpeg:https://www.cabbyshack.com/wp-content/uploads/2025/11/spirits-with-spirits-25-sq.jpg
ORGANIZER;CN="Sarah Angley":MAILTO:info@sarahangley.com
END:VEVENT
BEGIN:VEVENT
DTSTART;VALUE=DATE:20251127
DTEND;VALUE=DATE:20251129
DTSTAMP:20260423T104658
CREATED:20241122T140808Z
LAST-MODIFIED:20251105T210441Z
UID:10002572-1764241200-1764291600@www.cabbyshack.com
SUMMARY:Thanksgiving Feast
DESCRIPTION:The CabbyShack will be open all day for a traditional Thanksgiving Feast! \nCall ahead for reservations: 508-746-5354 \nView Thanksgiving Menu
URL:https://www.cabbyshack.com/event/thanksgiving-feast/2025-11-27/
LOCATION:CabbyShack\, 30 Town Wharf\, Plymouth\, MA\, 02360\, United States
CATEGORIES:Special Events
ATTACH;FMTTYPE=image/jpeg:https://www.cabbyshack.com/wp-content/uploads/2023/10/turkey-dinner.jpg
END:VEVENT
END:VCALENDAR