BEGIN:VCALENDAR
VERSION:2.0
PRODID:-//Cabby Shack - ECPv6.15.12.2//NONSGML v1.0//EN
CALSCALE:GREGORIAN
METHOD:PUBLISH
X-ORIGINAL-URL:https://www.cabbyshack.com
X-WR-CALDESC:Events for Cabby Shack
REFRESH-INTERVAL;VALUE=DURATION:PT1H
X-Robots-Tag:noindex
X-PUBLISHED-TTL:PT1H
BEGIN:VTIMEZONE
TZID:America/New_York
BEGIN:DAYLIGHT
TZOFFSETFROM:-0500
TZOFFSETTO:-0400
TZNAME:EDT
DTSTART:20250309T070000
END:DAYLIGHT
BEGIN:STANDARD
TZOFFSETFROM:-0400
TZOFFSETTO:-0500
TZNAME:EST
DTSTART:20251102T060000
END:STANDARD
BEGIN:DAYLIGHT
TZOFFSETFROM:-0500
TZOFFSETTO:-0400
TZNAME:EDT
DTSTART:20260308T070000
END:DAYLIGHT
BEGIN:STANDARD
TZOFFSETFROM:-0400
TZOFFSETTO:-0500
TZNAME:EST
DTSTART:20261101T060000
END:STANDARD
BEGIN:DAYLIGHT
TZOFFSETFROM:-0500
TZOFFSETTO:-0400
TZNAME:EDT
DTSTART:20270314T070000
END:DAYLIGHT
BEGIN:STANDARD
TZOFFSETFROM:-0400
TZOFFSETTO:-0500
TZNAME:EST
DTSTART:20271107T060000
END:STANDARD
END:VTIMEZONE
BEGIN:VEVENT
DTSTART;TZID=America/New_York:20260115T190000
DTEND;TZID=America/New_York:20260115T210000
DTSTAMP:20260421T010722
CREATED:20251107T152454Z
LAST-MODIFIED:20251218T173453Z
UID:10002573-1768503600-1768510800@www.cabbyshack.com
SUMMARY:The Journey - A Six-Course Tasting Experience by Chef Bono
DESCRIPTION:Take your taste buds on a journey. Join Salt of the Earth and Chef Bono for an evening that celebrates craft\, creativity\, and comfort — a six-course tasting menu with curated wine pairings designed to delight from first bite to last.\n$75 tasting menu or $125 with wine pairings \nSeating is limited. Please call 508-687-3133 to reserve your place on the journey. \n\nPrelude\nMorceau de Filet\nHearty olive tapenade\, roasted garlic and Gorgonzola fondant potato\, foie gras \nHalibut “Bouillabaisse”\nEarthy fumet\, littlenecks and spek with saffron potato nest \nInterlude\nLamb Kibbeh\nTahini coulis\, zaatar greens\, batata harra \nSteak Tartare\nQuail duo\, truffle aioli\, sweet onion focaccia \n“French Onion” Chicken Chop\nBone-in and frenched\, marsala onion crostini\, gruyere albufera \nFinale\nThe End\nA chef-inspired sweet treat to finish the evening in pure bliss
URL:https://www.cabbyshack.com/event/the-journey-a-six-course-tasting-experience-by-chef-bono/
LOCATION:CabbyShack\, 30 Town Wharf\, Plymouth\, MA\, 02360\, United States
CATEGORIES:Special Events
ATTACH;FMTTYPE=image/jpeg:https://www.cabbyshack.com/wp-content/uploads/2025/11/The-Journey-01-15-2026.jpg
END:VEVENT
BEGIN:VEVENT
DTSTART;TZID=America/New_York:20260125T130000
DTEND;TZID=America/New_York:20260125T210000
DTSTAMP:20260421T010722
CREATED:20240105T163310Z
LAST-MODIFIED:20260120T184409Z
UID:10002694-1769346000-1769374800@www.cabbyshack.com
SUMMARY:Year End Bash
DESCRIPTION:Enjoy NFL Championship Weekend along with food & great fun all day long! Join us for a chance to earn prizes! Help us close down the Shack for winter break in style!
URL:https://www.cabbyshack.com/event/year-end-bash/2026-01-25/
LOCATION:CabbyShack\, 30 Town Wharf\, Plymouth\, MA\, 02360\, United States
CATEGORIES:Football,Special Events
ATTACH;FMTTYPE=image/webp:https://www.cabbyshack.com/wp-content/uploads/2024/01/year-end-bash-generic.webp
END:VEVENT
END:VCALENDAR