BEGIN:VCALENDAR
VERSION:2.0
PRODID:-//Cabby Shack - ECPv6.15.12.2//NONSGML v1.0//EN
CALSCALE:GREGORIAN
METHOD:PUBLISH
X-WR-CALNAME:Cabby Shack
X-ORIGINAL-URL:https://www.cabbyshack.com
X-WR-CALDESC:Events for Cabby Shack
REFRESH-INTERVAL;VALUE=DURATION:PT1H
X-Robots-Tag:noindex
X-PUBLISHED-TTL:PT1H
BEGIN:VTIMEZONE
TZID:America/New_York
BEGIN:DAYLIGHT
TZOFFSETFROM:-0500
TZOFFSETTO:-0400
TZNAME:EDT
DTSTART:20250309T070000
END:DAYLIGHT
BEGIN:STANDARD
TZOFFSETFROM:-0400
TZOFFSETTO:-0500
TZNAME:EST
DTSTART:20251102T060000
END:STANDARD
BEGIN:DAYLIGHT
TZOFFSETFROM:-0500
TZOFFSETTO:-0400
TZNAME:EDT
DTSTART:20260308T070000
END:DAYLIGHT
BEGIN:STANDARD
TZOFFSETFROM:-0400
TZOFFSETTO:-0500
TZNAME:EST
DTSTART:20261101T060000
END:STANDARD
BEGIN:DAYLIGHT
TZOFFSETFROM:-0500
TZOFFSETTO:-0400
TZNAME:EDT
DTSTART:20270314T070000
END:DAYLIGHT
BEGIN:STANDARD
TZOFFSETFROM:-0400
TZOFFSETTO:-0500
TZNAME:EST
DTSTART:20271107T060000
END:STANDARD
END:VTIMEZONE
BEGIN:VEVENT
DTSTART;TZID=America/New_York:20260424T180000
DTEND;TZID=America/New_York:20260424T220000
DTSTAMP:20260420T195703
CREATED:20260107T142811Z
LAST-MODIFIED:20260415T141257Z
UID:10002691-1777053600-1777068000@www.cabbyshack.com
SUMMARY:Mystery Box Team Challenge
DESCRIPTION:Unleash your inner culinary genius and compete for cash prizes and the title of CabbyShack Mystery Box Champion!\nDon’t wait to reserve your spot—this is a culinary competition you won’t want to miss. \nParticipants\, you know the rules: your team must use all the ingredients in the mystery box to create delicious dishes and wow our judges. \n*No chefs or commercial kitchen experience allowed—just bring your creativity\, passion\, and love for cooking. \nThe winning team will take home a $500 cash prize and the bragging rights of being crowned CabbyShack Chopped Champion.\nThe runner-up team will receive a $100 CabbyShack gift card. \nEvent details: \n\nDate: Friday\, April 24\n6:00 pm\nLocation: The CabbyShack\nCompetition: Two rounds of mystery box ingredients\nTeam size: 2 People\nTeam entry fee: $150\n\nSpace is limited to six teams\, and this event is expected to sell out quickly—reserve your spot now!
URL:https://www.cabbyshack.com/event/mystery-box-team-challenge/
LOCATION:CabbyShack\, 30 Town Wharf\, Plymouth\, MA\, 02360\, United States
CATEGORIES:Special Events
ATTACH;FMTTYPE=image/jpeg:https://www.cabbyshack.com/wp-content/uploads/2026/01/Chopped-April-24-2026.jpg
END:VEVENT
END:VCALENDAR