BEGIN:VCALENDAR
VERSION:2.0
PRODID:-//Cabby Shack - ECPv6.15.12.2//NONSGML v1.0//EN
CALSCALE:GREGORIAN
METHOD:PUBLISH
X-WR-CALNAME:Cabby Shack
X-ORIGINAL-URL:https://www.cabbyshack.com
X-WR-CALDESC:Events for Cabby Shack
REFRESH-INTERVAL;VALUE=DURATION:PT1H
X-Robots-Tag:noindex
X-PUBLISHED-TTL:PT1H
BEGIN:VTIMEZONE
TZID:America/New_York
BEGIN:DAYLIGHT
TZOFFSETFROM:-0500
TZOFFSETTO:-0400
TZNAME:EDT
DTSTART:20250309T070000
END:DAYLIGHT
BEGIN:STANDARD
TZOFFSETFROM:-0400
TZOFFSETTO:-0500
TZNAME:EST
DTSTART:20251102T060000
END:STANDARD
BEGIN:DAYLIGHT
TZOFFSETFROM:-0500
TZOFFSETTO:-0400
TZNAME:EDT
DTSTART:20260308T070000
END:DAYLIGHT
BEGIN:STANDARD
TZOFFSETFROM:-0400
TZOFFSETTO:-0500
TZNAME:EST
DTSTART:20261101T060000
END:STANDARD
BEGIN:DAYLIGHT
TZOFFSETFROM:-0500
TZOFFSETTO:-0400
TZNAME:EDT
DTSTART:20270314T070000
END:DAYLIGHT
BEGIN:STANDARD
TZOFFSETFROM:-0400
TZOFFSETTO:-0500
TZNAME:EST
DTSTART:20271107T060000
END:STANDARD
END:VTIMEZONE
BEGIN:VEVENT
DTSTART;TZID=America/New_York:20260603T210000
DTEND;TZID=America/New_York:20260604T000000
DTSTAMP:20260421T195147
CREATED:20260420T204910Z
LAST-MODIFIED:20260420T205532Z
UID:10002927-1780520400-1780531200@www.cabbyshack.com
SUMMARY:Hitch and Jimmy C
DESCRIPTION:Join us for a jammin’ Wednesday night!
URL:https://www.cabbyshack.com/event/hitch-and-jimmy-c/2026-06-03/
LOCATION:MA
CATEGORIES:Music
ATTACH;FMTTYPE=image/jpeg:https://www.cabbyshack.com/wp-content/uploads/2026/04/hitch-and-jimmy-c-sq.jpg
END:VEVENT
BEGIN:VEVENT
DTSTART;TZID=America/New_York:20260604T170000
DTEND;TZID=America/New_York:20260604T200000
DTSTAMP:20260421T195147
CREATED:20230727T195440Z
LAST-MODIFIED:20260420T191612Z
UID:10002849-1780592400-1780603200@www.cabbyshack.com
SUMMARY:Mike Kane
DESCRIPTION:Acoustic blues and Americana musician from the mountains of Asheville\, North Carolina. (Photo by Ryan Love)
URL:https://www.cabbyshack.com/event/mike-kane/2026-06-04/
LOCATION:CabbyShack\, 30 Town Wharf\, Plymouth\, MA\, 02360\, United States
CATEGORIES:Music
ATTACH;FMTTYPE=image/jpeg:https://www.cabbyshack.com/wp-content/uploads/2023/07/Mike-Kane-Photo-Ryan-Love-sq.jpg
END:VEVENT
BEGIN:VEVENT
DTSTART;TZID=America/New_York:20260604T213000
DTEND;TZID=America/New_York:20260605T003000
DTSTAMP:20260421T195147
CREATED:20240716T152703Z
LAST-MODIFIED:20260420T201503Z
UID:10002916-1780608600-1780619400@www.cabbyshack.com
SUMMARY:Free Beer
DESCRIPTION:(That’s the name of the band)
URL:https://www.cabbyshack.com/event/free-beer/2026-06-04/
LOCATION:CabbyShack\, 30 Town Wharf\, Plymouth\, MA\, 02360\, United States
CATEGORIES:Music
ATTACH;FMTTYPE=image/jpeg:https://www.cabbyshack.com/wp-content/uploads/2024/07/Free-Beer-sq.jpg
END:VEVENT
BEGIN:VEVENT
DTSTART;TZID=America/New_York:20260605T160000
DTEND;TZID=America/New_York:20260605T190000
DTSTAMP:20260421T195147
CREATED:20250305T164058Z
LAST-MODIFIED:20260420T194328Z
UID:10002893-1780675200-1780686000@www.cabbyshack.com
SUMMARY:Fil Ramil
DESCRIPTION:Fil Ramil brings full-on energy to every gig. He’s a Berklee grad and a mainstay of the New England music scene.
URL:https://www.cabbyshack.com/event/fil-ramil/2026-06-05/
LOCATION:MA
CATEGORIES:Music
ATTACH;FMTTYPE=image/jpeg:https://www.cabbyshack.com/wp-content/uploads/2025/03/fil-ramil.jpg
END:VEVENT
BEGIN:VEVENT
DTSTART;TZID=America/New_York:20260605T213000
DTEND;TZID=America/New_York:20260606T003000
DTSTAMP:20260421T195147
CREATED:20230731T204241Z
LAST-MODIFIED:20260420T201550Z
UID:10002917-1780695000-1780705800@www.cabbyshack.com
SUMMARY:Mini Yellow Witches
DESCRIPTION:Jeff Hilliard\, Chris Fey\, & Nick Carr perform 90s rock & more.
URL:https://www.cabbyshack.com/event/mini-yellow-witches/2026-06-05/
LOCATION:CabbyShack\, 30 Town Wharf\, Plymouth\, MA\, 02360\, United States
CATEGORIES:Music
ATTACH;FMTTYPE=image/jpeg:https://www.cabbyshack.com/wp-content/uploads/2023/07/mini-yellow-witches.jpg
END:VEVENT
BEGIN:VEVENT
DTSTART;TZID=America/New_York:20260606T150000
DTEND;TZID=America/New_York:20260606T180000
DTSTAMP:20260421T195147
CREATED:20240618T191236Z
LAST-MODIFIED:20260420T201642Z
UID:10002918-1780758000-1780768800@www.cabbyshack.com
SUMMARY:Zak Jacobson
DESCRIPTION:Playing shows on the South Shore of Massachusetts and beyond! With the full band\, and also acoustic!
URL:https://www.cabbyshack.com/event/zak-jacobson/2026-06-06/
LOCATION:CabbyShack\, 30 Town Wharf\, Plymouth\, MA\, 02360\, United States
CATEGORIES:Music
ATTACH;FMTTYPE=image/jpeg:https://www.cabbyshack.com/wp-content/uploads/2024/06/Zak-Jacobson-Syndicate.jpg
END:VEVENT
BEGIN:VEVENT
DTSTART;TZID=America/New_York:20260606T213000
DTEND;TZID=America/New_York:20260607T003000
DTSTAMP:20260421T195147
CREATED:20240102T182041Z
LAST-MODIFIED:20260420T195544Z
UID:10002905-1780781400-1780792200@www.cabbyshack.com
SUMMARY:The Curve
DESCRIPTION:Ready to entertain with danceable Rock and Pop classics from the 70s to the modern era.
URL:https://www.cabbyshack.com/event/the-curve-2/2026-06-06/
LOCATION:CabbyShack\, 30 Town Wharf\, Plymouth\, MA\, 02360\, United States
CATEGORIES:Music
ATTACH;FMTTYPE=image/jpeg:https://www.cabbyshack.com/wp-content/uploads/2023/08/The-Curve.jpg
END:VEVENT
BEGIN:VEVENT
DTSTART;TZID=America/New_York:20260607T160000
DTEND;TZID=America/New_York:20260607T190000
DTSTAMP:20260421T195147
CREATED:20240301T203056Z
LAST-MODIFIED:20260420T200127Z
UID:10002910-1780848000-1780858800@www.cabbyshack.com
SUMMARY:Justin Beech
DESCRIPTION:This Berklee-trained musician has toured the world in his original bands.
URL:https://www.cabbyshack.com/event/justin-beech/2026-06-07/
LOCATION:CabbyShack\, 30 Town Wharf\, Plymouth\, MA\, 02360\, United States
CATEGORIES:Music
ATTACH;FMTTYPE=image/jpeg:https://www.cabbyshack.com/wp-content/uploads/2024/03/Justin-beech-sq.jpg
END:VEVENT
BEGIN:VEVENT
DTSTART;TZID=America/New_York:20260610T160000
DTEND;TZID=America/New_York:20260610T235900
DTSTAMP:20260421T195147
CREATED:20260303T180523Z
LAST-MODIFIED:20260420T193013Z
UID:10002874-1781107200-1781135940@www.cabbyshack.com
SUMMARY:Prime Rib Night
DESCRIPTION:$21.99 for 14oz\, +$2 for each additional ounce
URL:https://www.cabbyshack.com/event/prime-rib-night-3/2026-06-10/
LOCATION:CabbyShack\, 30 Town Wharf\, Plymouth\, MA\, 02360\, United States
ATTACH;FMTTYPE=image/jpeg:https://www.cabbyshack.com/wp-content/uploads/2023/10/SotE-Carved-Prime-Rib-850x850-1.jpg
END:VEVENT
BEGIN:VEVENT
DTSTART;TZID=America/New_York:20260610T190000
DTEND;TZID=America/New_York:20260610T220000
DTSTAMP:20260421T195147
CREATED:20260303T180712Z
LAST-MODIFIED:20260420T193202Z
UID:10002882-1781118000-1781128800@www.cabbyshack.com
SUMMARY:Trivia w/ The New England Trivia Company
DESCRIPTION:Hear ye! Let all who fancy themselves learned come forth to CabbyShack upon Wednesday’s eve. There shall be contest\, laughter\, and prizes aplenty\, under the banner of the New England Trivia Company!
URL:https://www.cabbyshack.com/event/trivia-w-the-new-england-trivia-company-2/2026-06-10/
LOCATION:CabbyShack\, 30 Town Wharf\, Plymouth\, MA\, 02360\, United States
CATEGORIES:Trivia
ATTACH;FMTTYPE=image/jpeg:https://www.cabbyshack.com/wp-content/uploads/2025/10/Come-Forth-Trivia-Lovers.jpg
END:VEVENT
BEGIN:VEVENT
DTSTART;TZID=America/New_York:20260610T210000
DTEND;TZID=America/New_York:20260611T000000
DTSTAMP:20260421T195147
CREATED:20260420T204910Z
LAST-MODIFIED:20260420T205532Z
UID:10002928-1781125200-1781136000@www.cabbyshack.com
SUMMARY:Hitch and Jimmy C
DESCRIPTION:Join us for a jammin’ Wednesday night!
URL:https://www.cabbyshack.com/event/hitch-and-jimmy-c/2026-06-10/
LOCATION:MA
CATEGORIES:Music
ATTACH;FMTTYPE=image/jpeg:https://www.cabbyshack.com/wp-content/uploads/2026/04/hitch-and-jimmy-c-sq.jpg
END:VEVENT
BEGIN:VEVENT
DTSTART;TZID=America/New_York:20260611T170000
DTEND;TZID=America/New_York:20260611T200000
DTSTAMP:20260421T195147
CREATED:20230727T195440Z
LAST-MODIFIED:20260420T191612Z
UID:10002850-1781197200-1781208000@www.cabbyshack.com
SUMMARY:Mike Kane
DESCRIPTION:Acoustic blues and Americana musician from the mountains of Asheville\, North Carolina. (Photo by Ryan Love)
URL:https://www.cabbyshack.com/event/mike-kane/2026-06-11/
LOCATION:CabbyShack\, 30 Town Wharf\, Plymouth\, MA\, 02360\, United States
CATEGORIES:Music
ATTACH;FMTTYPE=image/jpeg:https://www.cabbyshack.com/wp-content/uploads/2023/07/Mike-Kane-Photo-Ryan-Love-sq.jpg
END:VEVENT
BEGIN:VEVENT
DTSTART;TZID=America/New_York:20260611T213000
DTEND;TZID=America/New_York:20260612T003000
DTSTAMP:20260421T195147
CREATED:20230728T180723Z
LAST-MODIFIED:20260420T201912Z
UID:10002919-1781213400-1781224200@www.cabbyshack.com
SUMMARY:Sugar Bears Duo
DESCRIPTION:South Shore’s premier acoustic duo
URL:https://www.cabbyshack.com/event/sugar-bears-duo-2/2026-06-11/
LOCATION:CabbyShack\, 30 Town Wharf\, Plymouth\, MA\, 02360\, United States
CATEGORIES:Music
ATTACH;FMTTYPE=image/jpeg:https://www.cabbyshack.com/wp-content/uploads/2023/07/Sugar-Bears-Duo.jpg
END:VEVENT
BEGIN:VEVENT
DTSTART;TZID=America/New_York:20260612T160000
DTEND;TZID=America/New_York:20260612T190000
DTSTAMP:20260421T195147
CREATED:20230801T132705Z
LAST-MODIFIED:20260420T193549Z
UID:10002886-1781280000-1781290800@www.cabbyshack.com
SUMMARY:Kyle Morrison
DESCRIPTION:Vocalist\, guitarist\, and songwriter performing a fusion of blues\, funk\, jazz\, reggae\, soul and a hint of country.
URL:https://www.cabbyshack.com/event/kyle-morrison/2026-06-12/
LOCATION:CabbyShack\, 30 Town Wharf\, Plymouth\, MA\, 02360\, United States
CATEGORIES:Music
ATTACH;FMTTYPE=image/jpeg:https://www.cabbyshack.com/wp-content/uploads/2023/08/Kyle-Morrison-sq.jpg
END:VEVENT
BEGIN:VEVENT
DTSTART;TZID=America/New_York:20260612T213000
DTEND;TZID=America/New_York:20260613T003000
DTSTAMP:20260421T195147
CREATED:20250417T183131Z
LAST-MODIFIED:20260420T193811Z
UID:10002888-1781299800-1781310600@www.cabbyshack.com
SUMMARY:Wut It Iz
DESCRIPTION:Playing everything from your favorite Motown\, Funk\, R&B\, Disco & Rock classics to today’s Pop hits.
URL:https://www.cabbyshack.com/event/wut-it-iz/2026-06-12/
LOCATION:CabbyShack\, 30 Town Wharf\, Plymouth\, MA\, 02360\, United States
CATEGORIES:Music
ATTACH;FMTTYPE=image/jpeg:https://www.cabbyshack.com/wp-content/uploads/2025/04/wut-it-iz-band-sq.jpg
END:VEVENT
BEGIN:VEVENT
DTSTART;TZID=America/New_York:20260613T150000
DTEND;TZID=America/New_York:20260613T180000
DTSTAMP:20260421T195147
CREATED:20230728T200234Z
LAST-MODIFIED:20260420T192316Z
UID:10002858-1781362800-1781373600@www.cabbyshack.com
SUMMARY:Hitch
DESCRIPTION:Plymouth Singer-Songwriter Musician
URL:https://www.cabbyshack.com/event/hitch/2026-06-13/
LOCATION:CabbyShack\, 30 Town Wharf\, Plymouth\, MA\, 02360\, United States
CATEGORIES:Music
ATTACH;FMTTYPE=image/jpeg:https://www.cabbyshack.com/wp-content/uploads/2023/07/Hitch-sq.jpg
END:VEVENT
BEGIN:VEVENT
DTSTART;TZID=America/New_York:20260613T213000
DTEND;TZID=America/New_York:20260614T003000
DTSTAMP:20260421T195147
CREATED:20251027T192545Z
LAST-MODIFIED:20260420T202030Z
UID:10002921-1781386200-1781397000@www.cabbyshack.com
SUMMARY:Walk of Shame
DESCRIPTION:One of Cape Cod’s best Rock Alternative cover bands. Playing Rock\, Alternative\, and the great classic rock.
URL:https://www.cabbyshack.com/event/walk-of-shame/2026-06-13/
LOCATION:CabbyShack\, 30 Town Wharf\, Plymouth\, MA\, 02360\, United States
CATEGORIES:Music
ATTACH;FMTTYPE=image/jpeg:https://www.cabbyshack.com/wp-content/uploads/2025/10/walk-of-shame-sq.jpg
END:VEVENT
BEGIN:VEVENT
DTSTART;TZID=America/New_York:20260614T160000
DTEND;TZID=America/New_York:20260614T190000
DTSTAMP:20260421T195147
CREATED:20250724T182918Z
LAST-MODIFIED:20260420T195034Z
UID:10002899-1781452800-1781463600@www.cabbyshack.com
SUMMARY:Chris Ballerini
DESCRIPTION:Singer-songwriter and guitarist hailing from the South Shore of Massachusetts.
URL:https://www.cabbyshack.com/event/chris-ballerini/2026-06-14/
LOCATION:CabbyShack\, 30 Town Wharf\, Plymouth\, MA\, 02360\, United States
CATEGORIES:Music
ATTACH;FMTTYPE=image/jpeg:https://www.cabbyshack.com/wp-content/uploads/2025/07/chris-ballerini-sq.jpg
END:VEVENT
BEGIN:VEVENT
DTSTART;TZID=America/New_York:20260617T160000
DTEND;TZID=America/New_York:20260617T235900
DTSTAMP:20260421T195147
CREATED:20260303T180523Z
LAST-MODIFIED:20260420T193013Z
UID:10002875-1781712000-1781740740@www.cabbyshack.com
SUMMARY:Prime Rib Night
DESCRIPTION:$21.99 for 14oz\, +$2 for each additional ounce
URL:https://www.cabbyshack.com/event/prime-rib-night-3/2026-06-17/
LOCATION:CabbyShack\, 30 Town Wharf\, Plymouth\, MA\, 02360\, United States
ATTACH;FMTTYPE=image/jpeg:https://www.cabbyshack.com/wp-content/uploads/2023/10/SotE-Carved-Prime-Rib-850x850-1.jpg
END:VEVENT
BEGIN:VEVENT
DTSTART;TZID=America/New_York:20260617T190000
DTEND;TZID=America/New_York:20260617T220000
DTSTAMP:20260421T195147
CREATED:20260303T180712Z
LAST-MODIFIED:20260420T193202Z
UID:10002883-1781722800-1781733600@www.cabbyshack.com
SUMMARY:Trivia w/ The New England Trivia Company
DESCRIPTION:Hear ye! Let all who fancy themselves learned come forth to CabbyShack upon Wednesday’s eve. There shall be contest\, laughter\, and prizes aplenty\, under the banner of the New England Trivia Company!
URL:https://www.cabbyshack.com/event/trivia-w-the-new-england-trivia-company-2/2026-06-17/
LOCATION:CabbyShack\, 30 Town Wharf\, Plymouth\, MA\, 02360\, United States
CATEGORIES:Trivia
ATTACH;FMTTYPE=image/jpeg:https://www.cabbyshack.com/wp-content/uploads/2025/10/Come-Forth-Trivia-Lovers.jpg
END:VEVENT
BEGIN:VEVENT
DTSTART;TZID=America/New_York:20260617T210000
DTEND;TZID=America/New_York:20260618T000000
DTSTAMP:20260421T195147
CREATED:20260420T204910Z
LAST-MODIFIED:20260420T205532Z
UID:10002929-1781730000-1781740800@www.cabbyshack.com
SUMMARY:Hitch and Jimmy C
DESCRIPTION:Join us for a jammin’ Wednesday night!
URL:https://www.cabbyshack.com/event/hitch-and-jimmy-c/2026-06-17/
LOCATION:MA
CATEGORIES:Music
ATTACH;FMTTYPE=image/jpeg:https://www.cabbyshack.com/wp-content/uploads/2026/04/hitch-and-jimmy-c-sq.jpg
END:VEVENT
BEGIN:VEVENT
DTSTART;TZID=America/New_York:20260618T170000
DTEND;TZID=America/New_York:20260618T200000
DTSTAMP:20260421T195147
CREATED:20230727T195440Z
LAST-MODIFIED:20260420T191612Z
UID:10002851-1781802000-1781812800@www.cabbyshack.com
SUMMARY:Mike Kane
DESCRIPTION:Acoustic blues and Americana musician from the mountains of Asheville\, North Carolina. (Photo by Ryan Love)
URL:https://www.cabbyshack.com/event/mike-kane/2026-06-18/
LOCATION:CabbyShack\, 30 Town Wharf\, Plymouth\, MA\, 02360\, United States
CATEGORIES:Music
ATTACH;FMTTYPE=image/jpeg:https://www.cabbyshack.com/wp-content/uploads/2023/07/Mike-Kane-Photo-Ryan-Love-sq.jpg
END:VEVENT
BEGIN:VEVENT
DTSTART;TZID=America/New_York:20260618T213000
DTEND;TZID=America/New_York:20260619T003000
DTSTAMP:20260421T195147
CREATED:20230728T180723Z
LAST-MODIFIED:20260420T201912Z
UID:10002920-1781818200-1781829000@www.cabbyshack.com
SUMMARY:Sugar Bears Duo
DESCRIPTION:South Shore’s premier acoustic duo
URL:https://www.cabbyshack.com/event/sugar-bears-duo-2/2026-06-18/
LOCATION:CabbyShack\, 30 Town Wharf\, Plymouth\, MA\, 02360\, United States
CATEGORIES:Music
ATTACH;FMTTYPE=image/jpeg:https://www.cabbyshack.com/wp-content/uploads/2023/07/Sugar-Bears-Duo.jpg
END:VEVENT
BEGIN:VEVENT
DTSTART;TZID=America/New_York:20260619T160000
DTEND;TZID=America/New_York:20260619T190000
DTSTAMP:20260421T195147
CREATED:20230731T175714Z
LAST-MODIFIED:20260420T194807Z
UID:10002896-1781884800-1781895600@www.cabbyshack.com
SUMMARY:Suzanne McNeil
DESCRIPTION:Pop and rock roots with warm vocal undertones.
URL:https://www.cabbyshack.com/event/suzanne-mcneil/2026-06-19/
LOCATION:CabbyShack\, 30 Town Wharf\, Plymouth\, MA\, 02360\, United States
CATEGORIES:Music
ATTACH;FMTTYPE=image/png:https://www.cabbyshack.com/wp-content/uploads/2023/07/Suzanne-McNeil.png
END:VEVENT
BEGIN:VEVENT
DTSTART;TZID=America/New_York:20260619T213000
DTEND;TZID=America/New_York:20260620T003000
DTSTAMP:20260421T195147
CREATED:20250929T160018Z
LAST-MODIFIED:20260420T195427Z
UID:10002903-1781904600-1781915400@www.cabbyshack.com
SUMMARY:The Jody Moore Band
DESCRIPTION:High Energy Dance Party Fun! Classic and Modern Rock\, Pop\, Country\, Funk\, and Dance!
URL:https://www.cabbyshack.com/event/the-jody-moore-band-2/2026-06-19/
LOCATION:CabbyShack\, 30 Town Wharf\, Plymouth\, MA\, 02360\, United States
CATEGORIES:Music
ATTACH;FMTTYPE=image/jpeg:https://www.cabbyshack.com/wp-content/uploads/2023/09/Jody-Moore-Band-sq.jpg
END:VEVENT
BEGIN:VEVENT
DTSTART;TZID=America/New_York:20260620T150000
DTEND;TZID=America/New_York:20260620T180000
DTSTAMP:20260421T195147
CREATED:20240730T184146Z
LAST-MODIFIED:20260420T202127Z
UID:10002922-1781967600-1781978400@www.cabbyshack.com
SUMMARY:Stevey Burke
DESCRIPTION:Jammin’ out with some tunes!
URL:https://www.cabbyshack.com/event/stevey-burke-friends-2/2026-06-20/
LOCATION:CabbyShack\, 30 Town Wharf\, Plymouth\, MA\, 02360\, United States
CATEGORIES:Music
ATTACH;FMTTYPE=image/jpeg:https://www.cabbyshack.com/wp-content/uploads/2023/07/Stevey-Burke.jpeg
END:VEVENT
BEGIN:VEVENT
DTSTART;TZID=America/New_York:20260620T213000
DTEND;TZID=America/New_York:20260621T003000
DTSTAMP:20260421T195147
CREATED:20240423T202536Z
LAST-MODIFIED:20260420T202225Z
UID:10002923-1781991000-1782001800@www.cabbyshack.com
SUMMARY:Mike Machaby & The Movers
DESCRIPTION:Drawing on different flavors of music from around the globe\, Mike’s performances with his 5-piece band inspire hope and positivity in their audiences.
URL:https://www.cabbyshack.com/event/mike-machaby-the-movers/2026-06-20/
LOCATION:CabbyShack\, 30 Town Wharf\, Plymouth\, MA\, 02360\, United States
CATEGORIES:Music
ATTACH;FMTTYPE=image/jpeg:https://www.cabbyshack.com/wp-content/uploads/2024/04/Mike-Machaby-and-the-Movers-sq.jpg
END:VEVENT
BEGIN:VEVENT
DTSTART;TZID=America/New_York:20260621T160000
DTEND;TZID=America/New_York:20260621T190000
DTSTAMP:20260421T195147
CREATED:20230801T134457Z
LAST-MODIFIED:20260420T194034Z
UID:10002890-1782057600-1782068400@www.cabbyshack.com
SUMMARY:Matt Brown
DESCRIPTION:Solo vocalist and guitarist.
URL:https://www.cabbyshack.com/event/matt-brown/2026-06-21/
LOCATION:CabbyShack\, 30 Town Wharf\, Plymouth\, MA\, 02360\, United States
CATEGORIES:Music
ATTACH;FMTTYPE=image/jpeg:https://www.cabbyshack.com/wp-content/uploads/2023/08/Matt-Brown.jpg
END:VEVENT
BEGIN:VEVENT
DTSTART;TZID=America/New_York:20260624T160000
DTEND;TZID=America/New_York:20260624T235900
DTSTAMP:20260421T195147
CREATED:20260303T180523Z
LAST-MODIFIED:20260420T193013Z
UID:10002876-1782316800-1782345540@www.cabbyshack.com
SUMMARY:Prime Rib Night
DESCRIPTION:$21.99 for 14oz\, +$2 for each additional ounce
URL:https://www.cabbyshack.com/event/prime-rib-night-3/2026-06-24/
LOCATION:CabbyShack\, 30 Town Wharf\, Plymouth\, MA\, 02360\, United States
ATTACH;FMTTYPE=image/jpeg:https://www.cabbyshack.com/wp-content/uploads/2023/10/SotE-Carved-Prime-Rib-850x850-1.jpg
END:VEVENT
BEGIN:VEVENT
DTSTART;TZID=America/New_York:20260624T190000
DTEND;TZID=America/New_York:20260624T220000
DTSTAMP:20260421T195147
CREATED:20260303T180712Z
LAST-MODIFIED:20260420T193202Z
UID:10002884-1782327600-1782338400@www.cabbyshack.com
SUMMARY:Trivia w/ The New England Trivia Company
DESCRIPTION:Hear ye! Let all who fancy themselves learned come forth to CabbyShack upon Wednesday’s eve. There shall be contest\, laughter\, and prizes aplenty\, under the banner of the New England Trivia Company!
URL:https://www.cabbyshack.com/event/trivia-w-the-new-england-trivia-company-2/2026-06-24/
LOCATION:CabbyShack\, 30 Town Wharf\, Plymouth\, MA\, 02360\, United States
CATEGORIES:Trivia
ATTACH;FMTTYPE=image/jpeg:https://www.cabbyshack.com/wp-content/uploads/2025/10/Come-Forth-Trivia-Lovers.jpg
END:VEVENT
END:VCALENDAR