BEGIN:VCALENDAR
VERSION:2.0
PRODID:-//Cabby Shack - ECPv6.15.12.2//NONSGML v1.0//EN
CALSCALE:GREGORIAN
METHOD:PUBLISH
X-WR-CALNAME:Cabby Shack
X-ORIGINAL-URL:https://www.cabbyshack.com
X-WR-CALDESC:Events for Cabby Shack
REFRESH-INTERVAL;VALUE=DURATION:PT1H
X-Robots-Tag:noindex
X-PUBLISHED-TTL:PT1H
BEGIN:VTIMEZONE
TZID:America/New_York
BEGIN:DAYLIGHT
TZOFFSETFROM:-0500
TZOFFSETTO:-0400
TZNAME:EDT
DTSTART:20250309T070000
END:DAYLIGHT
BEGIN:STANDARD
TZOFFSETFROM:-0400
TZOFFSETTO:-0500
TZNAME:EST
DTSTART:20251102T060000
END:STANDARD
BEGIN:DAYLIGHT
TZOFFSETFROM:-0500
TZOFFSETTO:-0400
TZNAME:EDT
DTSTART:20260308T070000
END:DAYLIGHT
BEGIN:STANDARD
TZOFFSETFROM:-0400
TZOFFSETTO:-0500
TZNAME:EST
DTSTART:20261101T060000
END:STANDARD
BEGIN:DAYLIGHT
TZOFFSETFROM:-0500
TZOFFSETTO:-0400
TZNAME:EDT
DTSTART:20270314T070000
END:DAYLIGHT
BEGIN:STANDARD
TZOFFSETFROM:-0400
TZOFFSETTO:-0500
TZNAME:EST
DTSTART:20271107T060000
END:STANDARD
END:VTIMEZONE
BEGIN:VEVENT
DTSTART;TZID=America/New_York:20260513T160000
DTEND;TZID=America/New_York:20260513T235900
DTSTAMP:20260420T224941
CREATED:20260303T180523Z
LAST-MODIFIED:20260420T193013Z
UID:10002870-1778688000-1778716740@www.cabbyshack.com
SUMMARY:Prime Rib Night
DESCRIPTION:$21.99 for 14oz\, +$2 for each additional ounce
URL:https://www.cabbyshack.com/event/prime-rib-night-3/2026-05-13/
LOCATION:CabbyShack\, 30 Town Wharf\, Plymouth\, MA\, 02360\, United States
ATTACH;FMTTYPE=image/jpeg:https://www.cabbyshack.com/wp-content/uploads/2023/10/SotE-Carved-Prime-Rib-850x850-1.jpg
END:VEVENT
BEGIN:VEVENT
DTSTART;TZID=America/New_York:20260513T190000
DTEND;TZID=America/New_York:20260513T220000
DTSTAMP:20260420T224941
CREATED:20260303T180712Z
LAST-MODIFIED:20260420T193202Z
UID:10002878-1778698800-1778709600@www.cabbyshack.com
SUMMARY:Trivia w/ The New England Trivia Company
DESCRIPTION:Hear ye! Let all who fancy themselves learned come forth to CabbyShack upon Wednesday’s eve. There shall be contest\, laughter\, and prizes aplenty\, under the banner of the New England Trivia Company!
URL:https://www.cabbyshack.com/event/trivia-w-the-new-england-trivia-company-2/2026-05-13/
LOCATION:CabbyShack\, 30 Town Wharf\, Plymouth\, MA\, 02360\, United States
CATEGORIES:Trivia
ATTACH;FMTTYPE=image/jpeg:https://www.cabbyshack.com/wp-content/uploads/2025/10/Come-Forth-Trivia-Lovers.jpg
END:VEVENT
BEGIN:VEVENT
DTSTART;TZID=America/New_York:20260514T210000
DTEND;TZID=America/New_York:20260515T000000
DTSTAMP:20260420T224941
CREATED:20240725T152437Z
LAST-MODIFIED:20260420T194211Z
UID:10002891-1778792400-1778803200@www.cabbyshack.com
SUMMARY:Pat & Mal
DESCRIPTION:Youngest of the seven Fey’s\, Patrick and Mallory have been entertaining since childhood.
URL:https://www.cabbyshack.com/event/pat-mal/2026-05-14/
LOCATION:CabbyShack\, 30 Town Wharf\, Plymouth\, MA\, 02360\, United States
CATEGORIES:Music
ATTACH;FMTTYPE=image/jpeg:https://www.cabbyshack.com/wp-content/uploads/2024/07/Pat-and-mal.jpg
END:VEVENT
BEGIN:VEVENT
DTSTART;TZID=America/New_York:20260515T160000
DTEND;TZID=America/New_York:20260515T190000
DTSTAMP:20260420T224941
CREATED:20250305T164058Z
LAST-MODIFIED:20260420T194328Z
UID:10002892-1778860800-1778871600@www.cabbyshack.com
SUMMARY:Fil Ramil
DESCRIPTION:Fil Ramil brings full-on energy to every gig. He’s a Berklee grad and a mainstay of the New England music scene.
URL:https://www.cabbyshack.com/event/fil-ramil/2026-05-15/
LOCATION:MA
CATEGORIES:Music
ATTACH;FMTTYPE=image/jpeg:https://www.cabbyshack.com/wp-content/uploads/2025/03/fil-ramil.jpg
END:VEVENT
BEGIN:VEVENT
DTSTART;TZID=America/New_York:20260515T213000
DTEND;TZID=America/New_York:20260516T003000
DTSTAMP:20260420T224941
CREATED:20250106T155410Z
LAST-MODIFIED:20260420T194442Z
UID:10002894-1778880600-1778891400@www.cabbyshack.com
SUMMARY:That 80's Band
DESCRIPTION:MA-based 5-piece band playing the best dance music from the best decade evah\, dude! Totally tubular!
URL:https://www.cabbyshack.com/event/that-80s-band/2026-05-15/
LOCATION:CabbyShack\, 30 Town Wharf\, Plymouth\, MA\, 02360\, United States
CATEGORIES:Music
ATTACH;FMTTYPE=image/jpeg:https://www.cabbyshack.com/wp-content/uploads/2025/01/that-80s-band-sq.jpg
END:VEVENT
BEGIN:VEVENT
DTSTART;TZID=America/New_York:20260516T150000
DTEND;TZID=America/New_York:20260516T180000
DTSTAMP:20260420T224941
CREATED:20230731T175714Z
LAST-MODIFIED:20260420T194807Z
UID:10002895-1778943600-1778954400@www.cabbyshack.com
SUMMARY:Suzanne McNeil
DESCRIPTION:Pop and rock roots with warm vocal undertones.
URL:https://www.cabbyshack.com/event/suzanne-mcneil/2026-05-16/
LOCATION:CabbyShack\, 30 Town Wharf\, Plymouth\, MA\, 02360\, United States
CATEGORIES:Music
ATTACH;FMTTYPE=image/png:https://www.cabbyshack.com/wp-content/uploads/2023/07/Suzanne-McNeil.png
END:VEVENT
BEGIN:VEVENT
DTSTART;TZID=America/New_York:20260516T213000
DTEND;TZID=America/New_York:20260517T003000
DTSTAMP:20260420T224941
CREATED:20231121T185004Z
LAST-MODIFIED:20260420T194916Z
UID:10002897-1778967000-1778977800@www.cabbyshack.com
SUMMARY:Slider
DESCRIPTION:
URL:https://www.cabbyshack.com/event/slider/2026-05-16/
LOCATION:CabbyShack\, 30 Town Wharf\, Plymouth\, MA\, 02360\, United States
CATEGORIES:Music
ATTACH;FMTTYPE=image/jpeg:https://www.cabbyshack.com/wp-content/uploads/2023/11/Slider.jpg
END:VEVENT
BEGIN:VEVENT
DTSTART;TZID=America/New_York:20260517T160000
DTEND;TZID=America/New_York:20260517T190000
DTSTAMP:20260420T224941
CREATED:20250724T182918Z
LAST-MODIFIED:20260420T195034Z
UID:10002898-1779033600-1779044400@www.cabbyshack.com
SUMMARY:Chris Ballerini
DESCRIPTION:Singer-songwriter and guitarist hailing from the South Shore of Massachusetts.
URL:https://www.cabbyshack.com/event/chris-ballerini/2026-05-17/
LOCATION:CabbyShack\, 30 Town Wharf\, Plymouth\, MA\, 02360\, United States
CATEGORIES:Music
ATTACH;FMTTYPE=image/jpeg:https://www.cabbyshack.com/wp-content/uploads/2025/07/chris-ballerini-sq.jpg
END:VEVENT
BEGIN:VEVENT
DTSTART;VALUE=DATE:20260518
DTEND;VALUE=DATE:20260519
DTSTAMP:20260420T224941
CREATED:20260303T180321Z
LAST-MODIFIED:20260420T192801Z
UID:10002865-1779062400-1779148799@www.cabbyshack.com
SUMMARY:BOGO Pizza
DESCRIPTION:Specialty Pizzas or Build-Your-Own\, Dine-In or Take-Out
URL:https://www.cabbyshack.com/event/bogo-pizza-4/2026-05-18/
LOCATION:CabbyShack\, 30 Town Wharf\, Plymouth\, MA\, 02360\, United States
ATTACH;FMTTYPE=image/jpeg:https://www.cabbyshack.com/wp-content/uploads/2024/08/Pizza-sq-400.jpg
END:VEVENT
BEGIN:VEVENT
DTSTART;VALUE=DATE:20260519
DTEND;VALUE=DATE:20260520
DTSTAMP:20260420T224941
CREATED:20260303T182023Z
LAST-MODIFIED:20260420T192918Z
UID:10002868-1779148800-1779235199@www.cabbyshack.com
SUMMARY:Date Night
DESCRIPTION:2 Entrees & a Bottle of Wine for $50. Choose from our Daily Specials
URL:https://www.cabbyshack.com/event/date-night-4/2026-05-19/
LOCATION:CabbyShack\, 30 Town Wharf\, Plymouth\, MA\, 02360\, United States
ATTACH;FMTTYPE=image/jpeg:https://www.cabbyshack.com/wp-content/uploads/2024/09/CS24-Date-Night-sq.jpg
END:VEVENT
BEGIN:VEVENT
DTSTART;TZID=America/New_York:20260520T160000
DTEND;TZID=America/New_York:20260520T235900
DTSTAMP:20260420T224941
CREATED:20260303T180523Z
LAST-MODIFIED:20260420T193013Z
UID:10002871-1779292800-1779321540@www.cabbyshack.com
SUMMARY:Prime Rib Night
DESCRIPTION:$21.99 for 14oz\, +$2 for each additional ounce
URL:https://www.cabbyshack.com/event/prime-rib-night-3/2026-05-20/
LOCATION:CabbyShack\, 30 Town Wharf\, Plymouth\, MA\, 02360\, United States
ATTACH;FMTTYPE=image/jpeg:https://www.cabbyshack.com/wp-content/uploads/2023/10/SotE-Carved-Prime-Rib-850x850-1.jpg
END:VEVENT
BEGIN:VEVENT
DTSTART;TZID=America/New_York:20260520T190000
DTEND;TZID=America/New_York:20260520T220000
DTSTAMP:20260420T224941
CREATED:20260303T180712Z
LAST-MODIFIED:20260420T193202Z
UID:10002879-1779303600-1779314400@www.cabbyshack.com
SUMMARY:Trivia w/ The New England Trivia Company
DESCRIPTION:Hear ye! Let all who fancy themselves learned come forth to CabbyShack upon Wednesday’s eve. There shall be contest\, laughter\, and prizes aplenty\, under the banner of the New England Trivia Company!
URL:https://www.cabbyshack.com/event/trivia-w-the-new-england-trivia-company-2/2026-05-20/
LOCATION:CabbyShack\, 30 Town Wharf\, Plymouth\, MA\, 02360\, United States
CATEGORIES:Trivia
ATTACH;FMTTYPE=image/jpeg:https://www.cabbyshack.com/wp-content/uploads/2025/10/Come-Forth-Trivia-Lovers.jpg
END:VEVENT
BEGIN:VEVENT
DTSTART;TZID=America/New_York:20260521T170000
DTEND;TZID=America/New_York:20260521T200000
DTSTAMP:20260420T224941
CREATED:20230727T195440Z
LAST-MODIFIED:20260420T191612Z
UID:10002847-1779382800-1779393600@www.cabbyshack.com
SUMMARY:Mike Kane
DESCRIPTION:Acoustic blues and Americana musician from the mountains of Asheville\, North Carolina. (Photo by Ryan Love)
URL:https://www.cabbyshack.com/event/mike-kane/2026-05-21/
LOCATION:CabbyShack\, 30 Town Wharf\, Plymouth\, MA\, 02360\, United States
CATEGORIES:Music
ATTACH;FMTTYPE=image/jpeg:https://www.cabbyshack.com/wp-content/uploads/2023/07/Mike-Kane-Photo-Ryan-Love-sq.jpg
END:VEVENT
BEGIN:VEVENT
DTSTART;TZID=America/New_York:20260521T213000
DTEND;TZID=America/New_York:20260522T003000
DTSTAMP:20260420T224941
CREATED:20260420T203802Z
LAST-MODIFIED:20260420T203802Z
UID:10002925-1779399000-1779409800@www.cabbyshack.com
SUMMARY:Brian & Chris
DESCRIPTION:Brian & Chris of B&B Music Factory will provide some fun acoustic tunes!
URL:https://www.cabbyshack.com/event/brian-chris/
LOCATION:CabbyShack\, 30 Town Wharf\, Plymouth\, MA\, 02360\, United States
CATEGORIES:Music
ATTACH;FMTTYPE=image/jpeg:https://www.cabbyshack.com/wp-content/uploads/2026/04/brian-and-chris-sq.jpg
END:VEVENT
BEGIN:VEVENT
DTSTART;TZID=America/New_York:20260522T160000
DTEND;TZID=America/New_York:20260522T190000
DTSTAMP:20260420T224941
CREATED:20241028T175449Z
LAST-MODIFIED:20260420T195257Z
UID:10002900-1779465600-1779476400@www.cabbyshack.com
SUMMARY:Nick Valianti
DESCRIPTION:Marshfield singer/songwriter pulling from Classic Rock\, Country\, Folk and Pop influences.
URL:https://www.cabbyshack.com/event/nick-valianti/2026-05-22/
LOCATION:CabbyShack\, 30 Town Wharf\, Plymouth\, MA\, 02360\, United States
CATEGORIES:Music
ATTACH;FMTTYPE=image/jpeg:https://www.cabbyshack.com/wp-content/uploads/2024/10/nick-valianti-25-sq.jpg
END:VEVENT
BEGIN:VEVENT
DTSTART;TZID=America/New_York:20260522T213000
DTEND;TZID=America/New_York:20260523T003000
DTSTAMP:20260420T224941
CREATED:20250929T160018Z
LAST-MODIFIED:20260420T195427Z
UID:10002902-1779485400-1779496200@www.cabbyshack.com
SUMMARY:The Jody Moore Band
DESCRIPTION:High Energy Dance Party Fun! Classic and Modern Rock\, Pop\, Country\, Funk\, and Dance!
URL:https://www.cabbyshack.com/event/the-jody-moore-band-2/2026-05-22/
LOCATION:CabbyShack\, 30 Town Wharf\, Plymouth\, MA\, 02360\, United States
CATEGORIES:Music
ATTACH;FMTTYPE=image/jpeg:https://www.cabbyshack.com/wp-content/uploads/2023/09/Jody-Moore-Band-sq.jpg
END:VEVENT
BEGIN:VEVENT
DTSTART;TZID=America/New_York:20260523T150000
DTEND;TZID=America/New_York:20260523T180000
DTSTAMP:20260420T224941
CREATED:20230728T200234Z
LAST-MODIFIED:20260420T192316Z
UID:10002856-1779548400-1779559200@www.cabbyshack.com
SUMMARY:Hitch
DESCRIPTION:Plymouth Singer-Songwriter Musician
URL:https://www.cabbyshack.com/event/hitch/2026-05-23/
LOCATION:CabbyShack\, 30 Town Wharf\, Plymouth\, MA\, 02360\, United States
CATEGORIES:Music
ATTACH;FMTTYPE=image/jpeg:https://www.cabbyshack.com/wp-content/uploads/2023/07/Hitch-sq.jpg
END:VEVENT
BEGIN:VEVENT
DTSTART;TZID=America/New_York:20260523T213000
DTEND;TZID=America/New_York:20260524T003000
DTSTAMP:20260420T224941
CREATED:20240102T182041Z
LAST-MODIFIED:20260420T195544Z
UID:10002904-1779571800-1779582600@www.cabbyshack.com
SUMMARY:The Curve
DESCRIPTION:Ready to entertain with danceable Rock and Pop classics from the 70s to the modern era.
URL:https://www.cabbyshack.com/event/the-curve-2/2026-05-23/
LOCATION:CabbyShack\, 30 Town Wharf\, Plymouth\, MA\, 02360\, United States
CATEGORIES:Music
ATTACH;FMTTYPE=image/jpeg:https://www.cabbyshack.com/wp-content/uploads/2023/08/The-Curve.jpg
END:VEVENT
BEGIN:VEVENT
DTSTART;TZID=America/New_York:20260524T160000
DTEND;TZID=America/New_York:20260524T190000
DTSTAMP:20260420T224941
CREATED:20260420T204215Z
LAST-MODIFIED:20260420T204215Z
UID:10002926-1779638400-1779649200@www.cabbyshack.com
SUMMARY:Meghan Donofrio
DESCRIPTION:Solo acoustic performer and songwriter with a rounded vocal style.
URL:https://www.cabbyshack.com/event/meghan-donofrio/
LOCATION:CabbyShack\, 30 Town Wharf\, Plymouth\, MA\, 02360\, United States
CATEGORIES:Music
ATTACH;FMTTYPE=image/jpeg:https://www.cabbyshack.com/wp-content/uploads/2026/04/meghan-donofrio-sq.jpg
END:VEVENT
BEGIN:VEVENT
DTSTART;TZID=America/New_York:20260524T213000
DTEND;TZID=America/New_York:20260525T003000
DTSTAMP:20260420T224941
CREATED:20241122T152518Z
LAST-MODIFIED:20260420T195729Z
UID:10002906-1779658200-1779669000@www.cabbyshack.com
SUMMARY:The Speakeasies
DESCRIPTION:The Speakeasies provide a unique blend of blues and soul. They’ll transport you to a new place\, with fresh versions of classic songs you love.
URL:https://www.cabbyshack.com/event/the-speakeasies/2026-05-24/
LOCATION:CabbyShack\, 30 Town Wharf\, Plymouth\, MA\, 02360\, United States
CATEGORIES:Music
ATTACH;FMTTYPE=image/jpeg:https://www.cabbyshack.com/wp-content/uploads/2024/11/thee-speakeasies-sq.jpg
END:VEVENT
BEGIN:VEVENT
DTSTART;TZID=America/New_York:20260525T160000
DTEND;TZID=America/New_York:20260525T190000
DTSTAMP:20260420T224941
CREATED:20250724T173252Z
LAST-MODIFIED:20260420T195837Z
UID:10002907-1779724800-1779735600@www.cabbyshack.com
SUMMARY:Julia Babb
DESCRIPTION:Singer/Songwriter/Performer from the South Shore of MA
URL:https://www.cabbyshack.com/event/julia-babb/2026-05-25/
LOCATION:CabbyShack\, 30 Town Wharf\, Plymouth\, MA\, 02360\, United States
CATEGORIES:Music
ATTACH;FMTTYPE=image/jpeg:https://www.cabbyshack.com/wp-content/uploads/2025/07/julia-babb-sq.jpg
END:VEVENT
BEGIN:VEVENT
DTSTART;TZID=America/New_York:20260527T160000
DTEND;TZID=America/New_York:20260527T235900
DTSTAMP:20260420T224941
CREATED:20260303T180523Z
LAST-MODIFIED:20260420T193013Z
UID:10002872-1779897600-1779926340@www.cabbyshack.com
SUMMARY:Prime Rib Night
DESCRIPTION:$21.99 for 14oz\, +$2 for each additional ounce
URL:https://www.cabbyshack.com/event/prime-rib-night-3/2026-05-27/
LOCATION:CabbyShack\, 30 Town Wharf\, Plymouth\, MA\, 02360\, United States
ATTACH;FMTTYPE=image/jpeg:https://www.cabbyshack.com/wp-content/uploads/2023/10/SotE-Carved-Prime-Rib-850x850-1.jpg
END:VEVENT
BEGIN:VEVENT
DTSTART;TZID=America/New_York:20260527T190000
DTEND;TZID=America/New_York:20260527T220000
DTSTAMP:20260420T224941
CREATED:20260303T180712Z
LAST-MODIFIED:20260420T193202Z
UID:10002880-1779908400-1779919200@www.cabbyshack.com
SUMMARY:Trivia w/ The New England Trivia Company
DESCRIPTION:Hear ye! Let all who fancy themselves learned come forth to CabbyShack upon Wednesday’s eve. There shall be contest\, laughter\, and prizes aplenty\, under the banner of the New England Trivia Company!
URL:https://www.cabbyshack.com/event/trivia-w-the-new-england-trivia-company-2/2026-05-27/
LOCATION:CabbyShack\, 30 Town Wharf\, Plymouth\, MA\, 02360\, United States
CATEGORIES:Trivia
ATTACH;FMTTYPE=image/jpeg:https://www.cabbyshack.com/wp-content/uploads/2025/10/Come-Forth-Trivia-Lovers.jpg
END:VEVENT
BEGIN:VEVENT
DTSTART;TZID=America/New_York:20260528T170000
DTEND;TZID=America/New_York:20260528T200000
DTSTAMP:20260420T224941
CREATED:20230727T195440Z
LAST-MODIFIED:20260420T191612Z
UID:10002848-1779987600-1779998400@www.cabbyshack.com
SUMMARY:Mike Kane
DESCRIPTION:Acoustic blues and Americana musician from the mountains of Asheville\, North Carolina. (Photo by Ryan Love)
URL:https://www.cabbyshack.com/event/mike-kane/2026-05-28/
LOCATION:CabbyShack\, 30 Town Wharf\, Plymouth\, MA\, 02360\, United States
CATEGORIES:Music
ATTACH;FMTTYPE=image/jpeg:https://www.cabbyshack.com/wp-content/uploads/2023/07/Mike-Kane-Photo-Ryan-Love-sq.jpg
END:VEVENT
BEGIN:VEVENT
DTSTART;TZID=America/New_York:20260528T213000
DTEND;TZID=America/New_York:20260529T003000
DTSTAMP:20260420T224941
CREATED:20240926T135218Z
LAST-MODIFIED:20260420T195947Z
UID:10002908-1780003800-1780014600@www.cabbyshack.com
SUMMARY:Lars Chappell Trio
DESCRIPTION:Join us for a night of grooves and friends
URL:https://www.cabbyshack.com/event/lars-chappell-trio/2026-05-28/
LOCATION:CabbyShack\, 30 Town Wharf\, Plymouth\, MA\, 02360\, United States
CATEGORIES:Music
ATTACH;FMTTYPE=image/jpeg:https://www.cabbyshack.com/wp-content/uploads/2024/09/Lars-Chappell-Trio-sq.jpg
END:VEVENT
BEGIN:VEVENT
DTSTART;TZID=America/New_York:20260529T160000
DTEND;TZID=America/New_York:20260529T190000
DTSTAMP:20260420T224941
CREATED:20240301T203056Z
LAST-MODIFIED:20260420T200127Z
UID:10002909-1780070400-1780081200@www.cabbyshack.com
SUMMARY:Justin Beech
DESCRIPTION:This Berklee-trained musician has toured the world in his original bands.
URL:https://www.cabbyshack.com/event/justin-beech/2026-05-29/
LOCATION:CabbyShack\, 30 Town Wharf\, Plymouth\, MA\, 02360\, United States
CATEGORIES:Music
ATTACH;FMTTYPE=image/jpeg:https://www.cabbyshack.com/wp-content/uploads/2024/03/Justin-beech-sq.jpg
END:VEVENT
BEGIN:VEVENT
DTSTART;TZID=America/New_York:20260529T213000
DTEND;TZID=America/New_York:20260530T003000
DTSTAMP:20260420T224941
CREATED:20230801T135812Z
LAST-MODIFIED:20260420T200242Z
UID:10002911-1780090200-1780101000@www.cabbyshack.com
SUMMARY:The Jake Ash Band
DESCRIPTION:Incorporating traditional and modern country with northeast-flavored rock to produce incredibly catchy\, original music that makes you instantly want to sing along!
URL:https://www.cabbyshack.com/event/the-jake-ash-band/2026-05-29/
LOCATION:CabbyShack\, 30 Town Wharf\, Plymouth\, MA\, 02360\, United States
CATEGORIES:Music
ATTACH;FMTTYPE=image/jpeg:https://www.cabbyshack.com/wp-content/uploads/2023/08/jake-ash-band.jpg
END:VEVENT
BEGIN:VEVENT
DTSTART;TZID=America/New_York:20260530T150000
DTEND;TZID=America/New_York:20260530T180000
DTSTAMP:20260420T224941
CREATED:20230728T200234Z
LAST-MODIFIED:20260420T192316Z
UID:10002857-1780153200-1780164000@www.cabbyshack.com
SUMMARY:Hitch
DESCRIPTION:Plymouth Singer-Songwriter Musician
URL:https://www.cabbyshack.com/event/hitch/2026-05-30/
LOCATION:CabbyShack\, 30 Town Wharf\, Plymouth\, MA\, 02360\, United States
CATEGORIES:Music
ATTACH;FMTTYPE=image/jpeg:https://www.cabbyshack.com/wp-content/uploads/2023/07/Hitch-sq.jpg
END:VEVENT
BEGIN:VEVENT
DTSTART;TZID=America/New_York:20260530T213000
DTEND;TZID=America/New_York:20260531T003000
DTSTAMP:20260420T224941
CREATED:20230731T202420Z
LAST-MODIFIED:20260420T200348Z
UID:10002913-1780176600-1780187400@www.cabbyshack.com
SUMMARY:Gainsville Road
DESCRIPTION:Female-fronted cover band skillfully blending recent hits with well know classics – remixes\, mashups\, high-energy.
URL:https://www.cabbyshack.com/event/gainsville-road/2026-05-30/
LOCATION:MA
CATEGORIES:Music
ATTACH;FMTTYPE=image/jpeg:https://www.cabbyshack.com/wp-content/uploads/2023/07/Gainsville-Road-sq.jpg
END:VEVENT
BEGIN:VEVENT
DTSTART;TZID=America/New_York:20260531T160000
DTEND;TZID=America/New_York:20260531T190000
DTSTAMP:20260420T224941
CREATED:20250724T181457Z
LAST-MODIFIED:20260420T200455Z
UID:10002914-1780243200-1780254000@www.cabbyshack.com
SUMMARY:Brian Duchaney
DESCRIPTION:Come enjoy some songs and a good time.
URL:https://www.cabbyshack.com/event/brian-duchaney/2026-05-31/
LOCATION:CabbyShack\, 30 Town Wharf\, Plymouth\, MA\, 02360\, United States
CATEGORIES:Music
ATTACH;FMTTYPE=image/jpeg:https://www.cabbyshack.com/wp-content/uploads/2025/07/brian-duchaney-sq.jpg
END:VEVENT
END:VCALENDAR