BEGIN:VCALENDAR
VERSION:2.0
PRODID:-//Cabby Shack - ECPv6.15.12.2//NONSGML v1.0//EN
CALSCALE:GREGORIAN
METHOD:PUBLISH
X-ORIGINAL-URL:https://www.cabbyshack.com
X-WR-CALDESC:Events for Cabby Shack
REFRESH-INTERVAL;VALUE=DURATION:PT1H
X-Robots-Tag:noindex
X-PUBLISHED-TTL:PT1H
BEGIN:VTIMEZONE
TZID:America/New_York
BEGIN:DAYLIGHT
TZOFFSETFROM:-0500
TZOFFSETTO:-0400
TZNAME:EDT
DTSTART:20250309T070000
END:DAYLIGHT
BEGIN:STANDARD
TZOFFSETFROM:-0400
TZOFFSETTO:-0500
TZNAME:EST
DTSTART:20251102T060000
END:STANDARD
BEGIN:DAYLIGHT
TZOFFSETFROM:-0500
TZOFFSETTO:-0400
TZNAME:EDT
DTSTART:20260308T070000
END:DAYLIGHT
BEGIN:STANDARD
TZOFFSETFROM:-0400
TZOFFSETTO:-0500
TZNAME:EST
DTSTART:20261101T060000
END:STANDARD
BEGIN:DAYLIGHT
TZOFFSETFROM:-0500
TZOFFSETTO:-0400
TZNAME:EDT
DTSTART:20270314T070000
END:DAYLIGHT
BEGIN:STANDARD
TZOFFSETFROM:-0400
TZOFFSETTO:-0500
TZNAME:EST
DTSTART:20271107T060000
END:STANDARD
END:VTIMEZONE
BEGIN:VEVENT
DTSTART;TZID=America/New_York:20260620T213000
DTEND;TZID=America/New_York:20260621T003000
DTSTAMP:20260421T102357
CREATED:20240423T202536Z
LAST-MODIFIED:20260420T202225Z
UID:10002923-1781991000-1782001800@www.cabbyshack.com
SUMMARY:Mike Machaby & The Movers
DESCRIPTION:Drawing on different flavors of music from around the globe\, Mike’s performances with his 5-piece band inspire hope and positivity in their audiences.
URL:https://www.cabbyshack.com/event/mike-machaby-the-movers/2026-06-20/
LOCATION:CabbyShack\, 30 Town Wharf\, Plymouth\, MA\, 02360\, United States
CATEGORIES:Music
ATTACH;FMTTYPE=image/jpeg:https://www.cabbyshack.com/wp-content/uploads/2024/04/Mike-Machaby-and-the-Movers-sq.jpg
END:VEVENT
BEGIN:VEVENT
DTSTART;TZID=America/New_York:20260621T160000
DTEND;TZID=America/New_York:20260621T190000
DTSTAMP:20260421T102357
CREATED:20230801T134457Z
LAST-MODIFIED:20260420T194034Z
UID:10002890-1782057600-1782068400@www.cabbyshack.com
SUMMARY:Matt Brown
DESCRIPTION:Solo vocalist and guitarist.
URL:https://www.cabbyshack.com/event/matt-brown/2026-06-21/
LOCATION:CabbyShack\, 30 Town Wharf\, Plymouth\, MA\, 02360\, United States
CATEGORIES:Music
ATTACH;FMTTYPE=image/jpeg:https://www.cabbyshack.com/wp-content/uploads/2023/08/Matt-Brown.jpg
END:VEVENT
BEGIN:VEVENT
DTSTART;TZID=America/New_York:20260624T160000
DTEND;TZID=America/New_York:20260624T235900
DTSTAMP:20260421T102357
CREATED:20260303T180523Z
LAST-MODIFIED:20260420T193013Z
UID:10002876-1782316800-1782345540@www.cabbyshack.com
SUMMARY:Prime Rib Night
DESCRIPTION:$21.99 for 14oz\, +$2 for each additional ounce
URL:https://www.cabbyshack.com/event/prime-rib-night-3/2026-06-24/
LOCATION:CabbyShack\, 30 Town Wharf\, Plymouth\, MA\, 02360\, United States
ATTACH;FMTTYPE=image/jpeg:https://www.cabbyshack.com/wp-content/uploads/2023/10/SotE-Carved-Prime-Rib-850x850-1.jpg
END:VEVENT
BEGIN:VEVENT
DTSTART;TZID=America/New_York:20260624T190000
DTEND;TZID=America/New_York:20260624T220000
DTSTAMP:20260421T102357
CREATED:20260303T180712Z
LAST-MODIFIED:20260420T193202Z
UID:10002884-1782327600-1782338400@www.cabbyshack.com
SUMMARY:Trivia w/ The New England Trivia Company
DESCRIPTION:Hear ye! Let all who fancy themselves learned come forth to CabbyShack upon Wednesday’s eve. There shall be contest\, laughter\, and prizes aplenty\, under the banner of the New England Trivia Company!
URL:https://www.cabbyshack.com/event/trivia-w-the-new-england-trivia-company-2/2026-06-24/
LOCATION:CabbyShack\, 30 Town Wharf\, Plymouth\, MA\, 02360\, United States
CATEGORIES:Trivia
ATTACH;FMTTYPE=image/jpeg:https://www.cabbyshack.com/wp-content/uploads/2025/10/Come-Forth-Trivia-Lovers.jpg
END:VEVENT
BEGIN:VEVENT
DTSTART;TZID=America/New_York:20260624T210000
DTEND;TZID=America/New_York:20260625T000000
DTSTAMP:20260421T102357
CREATED:20260420T204910Z
LAST-MODIFIED:20260420T205532Z
UID:10002930-1782334800-1782345600@www.cabbyshack.com
SUMMARY:Hitch and Jimmy C
DESCRIPTION:Join us for a jammin’ Wednesday night!
URL:https://www.cabbyshack.com/event/hitch-and-jimmy-c/2026-06-24/
LOCATION:MA
CATEGORIES:Music
ATTACH;FMTTYPE=image/jpeg:https://www.cabbyshack.com/wp-content/uploads/2026/04/hitch-and-jimmy-c-sq.jpg
END:VEVENT
BEGIN:VEVENT
DTSTART;TZID=America/New_York:20260625T170000
DTEND;TZID=America/New_York:20260625T200000
DTSTAMP:20260421T102357
CREATED:20230727T195440Z
LAST-MODIFIED:20260420T191612Z
UID:10002852-1782406800-1782417600@www.cabbyshack.com
SUMMARY:Mike Kane
DESCRIPTION:Acoustic blues and Americana musician from the mountains of Asheville\, North Carolina. (Photo by Ryan Love)
URL:https://www.cabbyshack.com/event/mike-kane/2026-06-25/
LOCATION:CabbyShack\, 30 Town Wharf\, Plymouth\, MA\, 02360\, United States
CATEGORIES:Music
ATTACH;FMTTYPE=image/jpeg:https://www.cabbyshack.com/wp-content/uploads/2023/07/Mike-Kane-Photo-Ryan-Love-sq.jpg
END:VEVENT
BEGIN:VEVENT
DTSTART;TZID=America/New_York:20260626T160000
DTEND;TZID=America/New_York:20260626T190000
DTSTAMP:20260421T102357
CREATED:20241028T175449Z
LAST-MODIFIED:20260420T195257Z
UID:10002901-1782489600-1782500400@www.cabbyshack.com
SUMMARY:Nick Valianti
DESCRIPTION:Marshfield singer/songwriter pulling from Classic Rock\, Country\, Folk and Pop influences.
URL:https://www.cabbyshack.com/event/nick-valianti/2026-06-26/
LOCATION:CabbyShack\, 30 Town Wharf\, Plymouth\, MA\, 02360\, United States
CATEGORIES:Music
ATTACH;FMTTYPE=image/jpeg:https://www.cabbyshack.com/wp-content/uploads/2024/10/nick-valianti-25-sq.jpg
END:VEVENT
BEGIN:VEVENT
DTSTART;TZID=America/New_York:20260626T213000
DTEND;TZID=America/New_York:20260627T003000
DTSTAMP:20260421T102357
CREATED:20230801T135812Z
LAST-MODIFIED:20260420T200242Z
UID:10002912-1782509400-1782520200@www.cabbyshack.com
SUMMARY:The Jake Ash Band
DESCRIPTION:Incorporating traditional and modern country with northeast-flavored rock to produce incredibly catchy\, original music that makes you instantly want to sing along!
URL:https://www.cabbyshack.com/event/the-jake-ash-band/2026-06-26/
LOCATION:CabbyShack\, 30 Town Wharf\, Plymouth\, MA\, 02360\, United States
CATEGORIES:Music
ATTACH;FMTTYPE=image/jpeg:https://www.cabbyshack.com/wp-content/uploads/2023/08/jake-ash-band.jpg
END:VEVENT
BEGIN:VEVENT
DTSTART;TZID=America/New_York:20260627T150000
DTEND;TZID=America/New_York:20260627T180000
DTSTAMP:20260421T102357
CREATED:20230728T200234Z
LAST-MODIFIED:20260420T192316Z
UID:10002859-1782572400-1782583200@www.cabbyshack.com
SUMMARY:Hitch
DESCRIPTION:Plymouth Singer-Songwriter Musician
URL:https://www.cabbyshack.com/event/hitch/2026-06-27/
LOCATION:CabbyShack\, 30 Town Wharf\, Plymouth\, MA\, 02360\, United States
CATEGORIES:Music
ATTACH;FMTTYPE=image/jpeg:https://www.cabbyshack.com/wp-content/uploads/2023/07/Hitch-sq.jpg
END:VEVENT
BEGIN:VEVENT
DTSTART;TZID=America/New_York:20260627T213000
DTEND;TZID=America/New_York:20260628T003000
DTSTAMP:20260421T102357
CREATED:20230731T200218Z
LAST-MODIFIED:20260420T192524Z
UID:10002861-1782595800-1782606600@www.cabbyshack.com
SUMMARY:The Smoking Jackets
DESCRIPTION:3 time Best Wedding Band by South Shore Living Magazine
URL:https://www.cabbyshack.com/event/the-smoking-jackets/2026-06-27/
LOCATION:CabbyShack\, 30 Town Wharf\, Plymouth\, MA\, 02360\, United States
CATEGORIES:Music
ATTACH;FMTTYPE=image/jpeg:https://www.cabbyshack.com/wp-content/uploads/2023/07/Smoking-Jackets-sq.jpg
END:VEVENT
BEGIN:VEVENT
DTSTART;TZID=America/New_York:20260628T160000
DTEND;TZID=America/New_York:20260628T190000
DTSTAMP:20260421T102357
CREATED:20250724T181457Z
LAST-MODIFIED:20260420T200455Z
UID:10002915-1782662400-1782673200@www.cabbyshack.com
SUMMARY:Brian Duchaney
DESCRIPTION:Come enjoy some songs and a good time.
URL:https://www.cabbyshack.com/event/brian-duchaney/2026-06-28/
LOCATION:CabbyShack\, 30 Town Wharf\, Plymouth\, MA\, 02360\, United States
CATEGORIES:Music
ATTACH;FMTTYPE=image/jpeg:https://www.cabbyshack.com/wp-content/uploads/2025/07/brian-duchaney-sq.jpg
END:VEVENT
END:VCALENDAR